BEGIN:VCALENDAR
VERSION:2.0
PRODID:-//International Feltmakers Association - ECPv6.15.20//NONSGML v1.0//EN
CALSCALE:GREGORIAN
METHOD:PUBLISH
X-WR-CALNAME:International Feltmakers Association
X-ORIGINAL-URL:https://www.feltmakers.com
X-WR-CALDESC:Events for International Feltmakers Association
REFRESH-INTERVAL;VALUE=DURATION:PT1H
X-Robots-Tag:noindex
X-PUBLISHED-TTL:PT1H
BEGIN:VTIMEZONE
TZID:Europe/London
BEGIN:DAYLIGHT
TZOFFSETFROM:+0000
TZOFFSETTO:+0100
TZNAME:BST
DTSTART:20220327T010000
END:DAYLIGHT
BEGIN:STANDARD
TZOFFSETFROM:+0100
TZOFFSETTO:+0000
TZNAME:GMT
DTSTART:20221030T010000
END:STANDARD
BEGIN:DAYLIGHT
TZOFFSETFROM:+0000
TZOFFSETTO:+0100
TZNAME:BST
DTSTART:20230326T010000
END:DAYLIGHT
BEGIN:STANDARD
TZOFFSETFROM:+0100
TZOFFSETTO:+0000
TZNAME:GMT
DTSTART:20231029T010000
END:STANDARD
BEGIN:DAYLIGHT
TZOFFSETFROM:+0000
TZOFFSETTO:+0100
TZNAME:BST
DTSTART:20240331T010000
END:DAYLIGHT
BEGIN:STANDARD
TZOFFSETFROM:+0100
TZOFFSETTO:+0000
TZNAME:GMT
DTSTART:20241027T010000
END:STANDARD
END:VTIMEZONE
BEGIN:VEVENT
DTSTART;TZID=Europe/London:20230423T110000
DTEND;TZID=Europe/London:20230423T130000
DTSTAMP:20260423T160822
CREATED:20230330T124119Z
LAST-MODIFIED:20230330T124119Z
UID:10000247-1682247600-1682254800@www.feltmakers.com
SUMMARY:Experiment with Fabrics to Felt with
DESCRIPTION:The aim of the workshop is to create a nuno sampler incorporating at least 5 types of fabric with merino wool. Our objective will be to work with a variety of fabrics to experience\, observe and record\n*The handle of each fabric\n*The fabric structure\n*How each fabric interacts with the wool fibres as its laid out and goes through the stages of bonding with the fibres (pre-felt and fulled)\n*Share tips & good practice when making nuno felt. \nThe sampler you make can be used for future reference or made into a notebook cover or other item after the workshop. \nNotes & fabric will be mailed out to UK participants who book before 14th April. If you miss the deadline or are based further afield than the UK the notes can be emailed to you and you can make use of the fabrics you have available to you in your stash. We will send you information on the fabrics we will using ahead of the session. Zoom meeting booking details will be sent out to those booking.\nRegion 9 Workshop – other members welcome. The fee is £5 to cover cost of postage\, notes\, fabric & wool.\nIf you have any questions or would like to book please contact Emma via region9rc@icloud.com
URL:https://www.feltmakers.com/event/experiment-with-fabrics-to-felt-with/
LOCATION:Zoom – Region 9 Online
CATEGORIES:Online
ATTACH;FMTTYPE=image/jpeg:https://www.feltmakers.com/wp-content/uploads/2023/03/Experiment-with-Felting-Fabrics-Workshop-image.jpg
ORGANIZER;CN="Emma Jackson (R9 Coordinator)":MAILTO:region9rc@icloud.com
END:VEVENT
END:VCALENDAR