BEGIN:VCALENDAR
VERSION:2.0
PRODID:-//International Feltmakers Association - ECPv6.15.20//NONSGML v1.0//EN
CALSCALE:GREGORIAN
METHOD:PUBLISH
X-ORIGINAL-URL:https://www.feltmakers.com
X-WR-CALDESC:Events for International Feltmakers Association
REFRESH-INTERVAL;VALUE=DURATION:PT1H
X-Robots-Tag:noindex
X-PUBLISHED-TTL:PT1H
BEGIN:VTIMEZONE
TZID:Europe/London
BEGIN:DAYLIGHT
TZOFFSETFROM:+0000
TZOFFSETTO:+0100
TZNAME:BST
DTSTART:20210328T010000
END:DAYLIGHT
BEGIN:STANDARD
TZOFFSETFROM:+0100
TZOFFSETTO:+0000
TZNAME:GMT
DTSTART:20211031T010000
END:STANDARD
BEGIN:DAYLIGHT
TZOFFSETFROM:+0000
TZOFFSETTO:+0100
TZNAME:BST
DTSTART:20220327T010000
END:DAYLIGHT
BEGIN:STANDARD
TZOFFSETFROM:+0100
TZOFFSETTO:+0000
TZNAME:GMT
DTSTART:20221030T010000
END:STANDARD
BEGIN:DAYLIGHT
TZOFFSETFROM:+0000
TZOFFSETTO:+0100
TZNAME:BST
DTSTART:20230326T010000
END:DAYLIGHT
BEGIN:STANDARD
TZOFFSETFROM:+0100
TZOFFSETTO:+0000
TZNAME:GMT
DTSTART:20231029T010000
END:STANDARD
BEGIN:DAYLIGHT
TZOFFSETFROM:+0000
TZOFFSETTO:+0100
TZNAME:BST
DTSTART:20240331T010000
END:DAYLIGHT
BEGIN:STANDARD
TZOFFSETFROM:+0100
TZOFFSETTO:+0000
TZNAME:GMT
DTSTART:20241027T010000
END:STANDARD
END:VTIMEZONE
BEGIN:VEVENT
DTSTART;TZID=Europe/London:20221110T180000
DTEND;TZID=Europe/London:20230129T160000
DTSTAMP:20260418T024412
CREATED:20221102T123555Z
LAST-MODIFIED:20221102T124733Z
UID:10000169-1668103200-1675008000@www.feltmakers.com
SUMMARY:The Darkness and The Light Exhibition
DESCRIPTION:Painting | Fibre Art I Original Prints | Ceramics\nI have three of my fibre art pieces in this exhibition. The Darkness and The Light – this vast\, larger than life theme has many intriguing twists and turns.\nArtists looking towards the literal\, abstract\, perceptive\, – embrace moods and thoughts from moonlight and blistering light of day\, a mired of creative interpretations. Sensual\, dramatic and harmonious art experiences. \nWell represented in this open exhibition are works addressing personal journeys of Dark and Light – some wildly expressive\, others thoughtful\, narrative and poetic\, as well as works alluding to our wider cultural heritage and understanding.
URL:https://www.feltmakers.com/event/the-darkness-and-the-light/
LOCATION:Water Street Gallery  Todmorden West Yorkshire 0L14 5AB\, Waterr Street Gallery 25 Water Street\, Todmorden\, 0L14 5AB\, United Kingdom
CATEGORIES:In Person
ATTACH;FMTTYPE=image/jpeg:https://www.feltmakers.com/wp-content/uploads/2022/11/Josephine-Gornall-22All-at-Sea22--scaled.jpg
END:VEVENT
END:VCALENDAR