BEGIN:VCALENDAR
VERSION:2.0
PRODID:-//International Feltmakers Association - ECPv6.15.20//NONSGML v1.0//EN
CALSCALE:GREGORIAN
METHOD:PUBLISH
X-ORIGINAL-URL:https://www.feltmakers.com
X-WR-CALDESC:Events for International Feltmakers Association
REFRESH-INTERVAL;VALUE=DURATION:PT1H
X-Robots-Tag:noindex
X-PUBLISHED-TTL:PT1H
BEGIN:VTIMEZONE
TZID:Europe/Berlin
BEGIN:DAYLIGHT
TZOFFSETFROM:+0100
TZOFFSETTO:+0200
TZNAME:CEST
DTSTART:20240331T010000
END:DAYLIGHT
BEGIN:STANDARD
TZOFFSETFROM:+0200
TZOFFSETTO:+0100
TZNAME:CET
DTSTART:20241027T010000
END:STANDARD
BEGIN:DAYLIGHT
TZOFFSETFROM:+0100
TZOFFSETTO:+0200
TZNAME:CEST
DTSTART:20250330T010000
END:DAYLIGHT
BEGIN:STANDARD
TZOFFSETFROM:+0200
TZOFFSETTO:+0100
TZNAME:CET
DTSTART:20251026T010000
END:STANDARD
BEGIN:DAYLIGHT
TZOFFSETFROM:+0100
TZOFFSETTO:+0200
TZNAME:CEST
DTSTART:20260329T010000
END:DAYLIGHT
BEGIN:STANDARD
TZOFFSETFROM:+0200
TZOFFSETTO:+0100
TZNAME:CET
DTSTART:20261025T010000
END:STANDARD
END:VTIMEZONE
BEGIN:VEVENT
DTSTART;TZID=Europe/Berlin:20250510T180000
DTEND;TZID=Europe/Berlin:20250510T210000
DTSTAMP:20260420T020610
CREATED:20240526T150712Z
LAST-MODIFIED:20250422T193934Z
UID:10003098-1746900000-1746910800@www.feltmakers.com
SUMMARY:N° 25/05 Sculptural wallhanging – fossil leaf\, Online workshop with Dagmar Binder
DESCRIPTION:There’s 3 groups available\, for different time zones and languages:\nGr. 1 May 08/09\, 2025 in English 08-11 a.m. CEST\nGr. 2 May 10/11\, 2025 in German 10 a.m.- 1 p.m. CEST\nGr. 3 May 10/11\, 2025 in English 06-09 p.m. CEST \nIn this workshop I’d like to introduce another way of creating an impressive structure for a sculptural\nwallhanging. This time we’d assemble a group of hollow chambers and incorporate them in a larger\nitem. They can be opened later and manipulated manually to form an organic seamless felt object.\nThe silhouette of the sculpture will only arise from the arrangement of all individual parts.\nWe’d pay special attention to fiber combination and directions to connect all parts securly and\nprepare the material for specific shaping and deformations. With a well planned use of color through\nall layers we can even increase the dimensional effect.\nAs an example I developed this fossil leaf project for you. It will allow us to discuss and practise all\nworking steps included and enable you to apply the technique to a variety of individual felt works in\nthe future. \nN° 25/05 Wandskulptur – Blattfossil\, Online\, Mai 2025 \nIn diesem Kurs möchte ich eine andere Möglichkeit vorstellen\, wie eine eindrucksvolle Struktur für ein\nWandobjekt erzeugt werden kann. Wir wollen diesmal eine Gruppe von Hohlräumen vorbereiten\,\ndiese zu einer grösseren Form zusammensetzen und nahtlos miteinander verbinden. Die Kammern\nwerden später geöffnet\, umgeformt und von Hand in eine organische Form modelliert.\nDie Konturen der Skulptur werden sich erst aus der Anordnung aller Einzelteile ergeben.\nWir schauen uns speziell das Zusammenwirken verschiedener Materialien und die Faserführung an\,\num alle Teile sicher zu verbinden und das Filzgut gezielt für Umformungen vorzubereiten. Auch der\nEinsatz von Farben durch alle Schichten hindurch will gut durchdacht sein und kann die räumliche\nWirkung erheblich verstärken.\nAls Beispiel habe ich ein Blattfossil für Euch vorbereitet\, an dem wir alle Arbeitsschritte erläutern und\nüben können. Die erlernten Techniken könnt Ihr künftig vielseitig in eigenen Filzarbeiten anwenden.
URL:https://www.feltmakers.com/event/n-24-08-sculptural-wallhanging-fossil-leave-online-workshop-with-dagmar-binder-2/2025-05-10/
LOCATION:textillabor\, Am Flutgraben 3\, Berlin\, Berlin\, 12435\, Germany
CATEGORIES:Online
ATTACH;FMTTYPE=image/jpeg:https://www.feltmakers.com/wp-content/uploads/2024/05/2025_05_fossil.jpg
ORGANIZER;CN="Dagmar Binder%2C textillabor":MAILTO:dagmar@textillabor.de
END:VEVENT
BEGIN:VEVENT
DTSTART;TZID=Europe/Berlin:20250413T180000
DTEND;TZID=Europe/Berlin:20250413T210000
DTSTAMP:20260420T020610
CREATED:20241218T121032Z
LAST-MODIFIED:20241218T121032Z
UID:10003103-1744567200-1744578000@www.feltmakers.com
SUMMARY:N° 25/04 Sculptural wallhanging - bark fragment with pitcher plants\, Online workshop with Dagmar Binder
DESCRIPTION:N° 25/04 Sculptural wallhanging – bark fragment with pitcher plants (139 €) \nThere are 3 groups available\, according to different time zones and languages: \nGr. 1      April 10/11\, 2025 in English 08-11 a.m. CEST\nGr. 2     April 12/13\, 2025 in German 10 a.m.- 1 p.m. CEST\nGr. 3     April 12/13\, 2025 in English 06-09 p.m. CEST \nMany of you have been asking for more sculptural felt projects – so here we’ll continue with a new\nseamless 3d creation\, a bark fragment inspired by pitcher plants. Felt develops quiet a strong\npresence in a room. The relatively small dimensions of this sculptural piece (65x30cm) will not at all\ndiminish its effect and allow us to cope with it during one weekend. As always\, I included some\ntechnical themes to enrich your felting skills:\nYou will learn how to add organic forms to a solid background felt in a fluent and natural way. We will\npractise a painterly use of colors that will help to increase the spatial effect. Another important aspect\nare combination of materials and well planned fiber direction to achieve a beautiful natural shape and\nsufficient stability for the pitchers to stand upright. Last not least\, fulling the felt to a firm consistency\nwill give it the perfect finish. \nN° 25/04 Wandskulptur – Borkenstück mit Kannenpflanzen (139 €) \nGr. 2          April 12/13\, 2025 in Deutsch 10 – 13 h \nViele von Euch haben Interesse an weiteren skulpturalen Filzprojekten bekundet – hier geht es also\nweiter mit einer neuen nahtlosen 3d-Kreation\, einem Rindenfragment\, inspiriert von Kannenpflanzen.\nFilz entwickelt eine starke Präsenz im Raum. Die relativ geringen Abmessungen (65x30cm) unseres\nÜbungsstücks schmälern seine Wirkung keineswegs und sind an einem Wochenende zu bewältigen.\nWie immer habe ich einige technische Themen einbezogen\, die Eure Fertigkeiten bereichern sollen:\nIhr werdet lernen\, wie organische Formen fließend und natürlich in einen festen Filzhintergrund\neingefügt werden können. Wir üben den malerischen Einsatz von Farben\, um die räumliche Wirkung\nzu verstärken. Ein weiterer wichtiger Aspekt ist die Kombination von Materialien und eine gut\ngeplante Faserführung\, um eine schöne\, natürliche Form und ausreichend Stabilität zu erzielen\, damit\ndie Kannen aufrecht stehen können. Zu guter Letzt wird der Filz durch Walken zu einer festen\nKonsistenz gebracht\, die ihm das perfekte und ganz organische Finish verleiht.
URL:https://www.feltmakers.com/event/n-25-04-sculptural-wallhanging-bark-fragment-with-pitcher-plants-online-workshop-with-dagmar-binder/2025-04-13/
LOCATION:textillabor\, Am Flutgraben 3\, Berlin\, Berlin\, 12435\, Germany
CATEGORIES:Online
ATTACH;FMTTYPE=image/jpeg:https://www.feltmakers.com/wp-content/uploads/2024/12/2025_04_pitcher_plants.jpg
ORGANIZER;CN="Dagmar Binder%2C textillabor":MAILTO:dagmar@textillabor.de
END:VEVENT
BEGIN:VEVENT
DTSTART;TZID=Europe/Berlin:20250412T180000
DTEND;TZID=Europe/Berlin:20250412T210000
DTSTAMP:20260420T020610
CREATED:20241218T121032Z
LAST-MODIFIED:20241218T121032Z
UID:10003102-1744480800-1744491600@www.feltmakers.com
SUMMARY:N° 25/04 Sculptural wallhanging - bark fragment with pitcher plants\, Online workshop with Dagmar Binder
DESCRIPTION:N° 25/04 Sculptural wallhanging – bark fragment with pitcher plants (139 €) \nThere are 3 groups available\, according to different time zones and languages: \nGr. 1      April 10/11\, 2025 in English 08-11 a.m. CEST\nGr. 2     April 12/13\, 2025 in German 10 a.m.- 1 p.m. CEST\nGr. 3     April 12/13\, 2025 in English 06-09 p.m. CEST \nMany of you have been asking for more sculptural felt projects – so here we’ll continue with a new\nseamless 3d creation\, a bark fragment inspired by pitcher plants. Felt develops quiet a strong\npresence in a room. The relatively small dimensions of this sculptural piece (65x30cm) will not at all\ndiminish its effect and allow us to cope with it during one weekend. As always\, I included some\ntechnical themes to enrich your felting skills:\nYou will learn how to add organic forms to a solid background felt in a fluent and natural way. We will\npractise a painterly use of colors that will help to increase the spatial effect. Another important aspect\nare combination of materials and well planned fiber direction to achieve a beautiful natural shape and\nsufficient stability for the pitchers to stand upright. Last not least\, fulling the felt to a firm consistency\nwill give it the perfect finish. \nN° 25/04 Wandskulptur – Borkenstück mit Kannenpflanzen (139 €) \nGr. 2          April 12/13\, 2025 in Deutsch 10 – 13 h \nViele von Euch haben Interesse an weiteren skulpturalen Filzprojekten bekundet – hier geht es also\nweiter mit einer neuen nahtlosen 3d-Kreation\, einem Rindenfragment\, inspiriert von Kannenpflanzen.\nFilz entwickelt eine starke Präsenz im Raum. Die relativ geringen Abmessungen (65x30cm) unseres\nÜbungsstücks schmälern seine Wirkung keineswegs und sind an einem Wochenende zu bewältigen.\nWie immer habe ich einige technische Themen einbezogen\, die Eure Fertigkeiten bereichern sollen:\nIhr werdet lernen\, wie organische Formen fließend und natürlich in einen festen Filzhintergrund\neingefügt werden können. Wir üben den malerischen Einsatz von Farben\, um die räumliche Wirkung\nzu verstärken. Ein weiterer wichtiger Aspekt ist die Kombination von Materialien und eine gut\ngeplante Faserführung\, um eine schöne\, natürliche Form und ausreichend Stabilität zu erzielen\, damit\ndie Kannen aufrecht stehen können. Zu guter Letzt wird der Filz durch Walken zu einer festen\nKonsistenz gebracht\, die ihm das perfekte und ganz organische Finish verleiht.
URL:https://www.feltmakers.com/event/n-25-04-sculptural-wallhanging-bark-fragment-with-pitcher-plants-online-workshop-with-dagmar-binder/2025-04-12/
LOCATION:textillabor\, Am Flutgraben 3\, Berlin\, Berlin\, 12435\, Germany
CATEGORIES:Online
ATTACH;FMTTYPE=image/jpeg:https://www.feltmakers.com/wp-content/uploads/2024/12/2025_04_pitcher_plants.jpg
ORGANIZER;CN="Dagmar Binder%2C textillabor":MAILTO:dagmar@textillabor.de
END:VEVENT
BEGIN:VEVENT
DTSTART;TZID=Europe/Berlin:20250316T180000
DTEND;TZID=Europe/Berlin:20250316T210000
DTSTAMP:20260420T020610
CREATED:20241218T120201Z
LAST-MODIFIED:20241218T120201Z
UID:10003101-1742148000-1742158800@www.feltmakers.com
SUMMARY:N° 25/03 Matchstick necklace\, Online workshop with Dagmar Binder
DESCRIPTION:There are 3 groups available\, according to different time zones and languages: \nN° 25/03 Matchstick necklace (139 €)\nGr. 1          March 13/14\, 2025 in English 08-11 a.m. CET\nGr. 2         March 15/16\, 2025 in German 10 a.m.- 1 p.m. CET\nGr. 3         March 15/16\, 2025 in English 06-09 p.m. CET \nIn this workshop we want to felt a fancy piece of jewelry in which dense tufts of sticks with colored tips\nare connected to form a necklace. I have named it the matchstick necklace.\nWhen laying out the wool\, we will pay particular attention to the composition of materials and fibre\ndirection\, in order to create a stable felt and firmly enclose the colored section at the lower edge.\nThis allows us to cut many narrow strips later\, with their upper end securely anchored in a collar.\nEverything is felted again to seal the cuts and give the matchsticks an organic and perfect finish.\nIf you don’t like it quite so opulent or would like to practise on a simpler model first\,\nyou may want to start with fewer tiers. Of course\, you can choose your favourite colors. \nN° 25/03 Streichholz Collier (139 €)\nGr. 2         März 15/16\, 2025 in Deutsch 10 – 13 h \nIn diesem Kurs wollen wir einen originellen Halsschmuck filzen\, in dem dichte Büschel von Stäbchen\nmit farbigen Kuppen zu einem Collier verbunden werden. Ich habe es Streichholz Collier getauft.\nBeim Auslegen werden wir besonders auf Materialzusammensetzung und Faserrichtung achten\,\ndamit ein stabiler Filz entsteht\, bei dem auch der farbige Abschnitt am unteren Rand gut haltbar\neingeschlossen ist.\nDas erlaubt uns später viele schmale Streifen zu schneiden\, deren oberes Ende fest in einem\nHalsband verankert ist. Alles wird nochmals nachgefilzt \, um die Schnitte zu versiegeln und die\nHölzchen schön auszuformen.\nWer es nicht ganz so opulent mag oder zunächst an einem einfacheren Modell üben möchte\,\nkann auch mit weniger Ebenen beginnen. Eure Wunschfarben könnt Ihr natürlich selbst auswählen.
URL:https://www.feltmakers.com/event/n-25-03-matchstick-necklace-online-workshop-with-dagmar-binder/2025-03-16/
LOCATION:textillabor\, Am Flutgraben 3\, Berlin\, Berlin\, 12435\, Germany
CATEGORIES:Online
ATTACH;FMTTYPE=image/jpeg:https://www.feltmakers.com/wp-content/uploads/2024/12/2025_03_matchsticks.jpg
ORGANIZER;CN="Dagmar Binder%2C textillabor":MAILTO:dagmar@textillabor.de
END:VEVENT
BEGIN:VEVENT
DTSTART;TZID=Europe/Berlin:20250315T180000
DTEND;TZID=Europe/Berlin:20250315T210000
DTSTAMP:20260420T020610
CREATED:20241218T120201Z
LAST-MODIFIED:20241218T120201Z
UID:10003100-1742061600-1742072400@www.feltmakers.com
SUMMARY:N° 25/03 Matchstick necklace\, Online workshop with Dagmar Binder
DESCRIPTION:There are 3 groups available\, according to different time zones and languages: \nN° 25/03 Matchstick necklace (139 €)\nGr. 1          March 13/14\, 2025 in English 08-11 a.m. CET\nGr. 2         March 15/16\, 2025 in German 10 a.m.- 1 p.m. CET\nGr. 3         March 15/16\, 2025 in English 06-09 p.m. CET \nIn this workshop we want to felt a fancy piece of jewelry in which dense tufts of sticks with colored tips\nare connected to form a necklace. I have named it the matchstick necklace.\nWhen laying out the wool\, we will pay particular attention to the composition of materials and fibre\ndirection\, in order to create a stable felt and firmly enclose the colored section at the lower edge.\nThis allows us to cut many narrow strips later\, with their upper end securely anchored in a collar.\nEverything is felted again to seal the cuts and give the matchsticks an organic and perfect finish.\nIf you don’t like it quite so opulent or would like to practise on a simpler model first\,\nyou may want to start with fewer tiers. Of course\, you can choose your favourite colors. \nN° 25/03 Streichholz Collier (139 €)\nGr. 2         März 15/16\, 2025 in Deutsch 10 – 13 h \nIn diesem Kurs wollen wir einen originellen Halsschmuck filzen\, in dem dichte Büschel von Stäbchen\nmit farbigen Kuppen zu einem Collier verbunden werden. Ich habe es Streichholz Collier getauft.\nBeim Auslegen werden wir besonders auf Materialzusammensetzung und Faserrichtung achten\,\ndamit ein stabiler Filz entsteht\, bei dem auch der farbige Abschnitt am unteren Rand gut haltbar\neingeschlossen ist.\nDas erlaubt uns später viele schmale Streifen zu schneiden\, deren oberes Ende fest in einem\nHalsband verankert ist. Alles wird nochmals nachgefilzt \, um die Schnitte zu versiegeln und die\nHölzchen schön auszuformen.\nWer es nicht ganz so opulent mag oder zunächst an einem einfacheren Modell üben möchte\,\nkann auch mit weniger Ebenen beginnen. Eure Wunschfarben könnt Ihr natürlich selbst auswählen.
URL:https://www.feltmakers.com/event/n-25-03-matchstick-necklace-online-workshop-with-dagmar-binder/2025-03-15/
LOCATION:textillabor\, Am Flutgraben 3\, Berlin\, Berlin\, 12435\, Germany
CATEGORIES:Online
ATTACH;FMTTYPE=image/jpeg:https://www.feltmakers.com/wp-content/uploads/2024/12/2025_03_matchsticks.jpg
ORGANIZER;CN="Dagmar Binder%2C textillabor":MAILTO:dagmar@textillabor.de
END:VEVENT
END:VCALENDAR