BEGIN:VCALENDAR
VERSION:2.0
PRODID:-//International Feltmakers Association - ECPv6.15.20//NONSGML v1.0//EN
CALSCALE:GREGORIAN
METHOD:PUBLISH
X-WR-CALNAME:International Feltmakers Association
X-ORIGINAL-URL:https://www.feltmakers.com
X-WR-CALDESC:Events for International Feltmakers Association
REFRESH-INTERVAL;VALUE=DURATION:PT1H
X-Robots-Tag:noindex
X-PUBLISHED-TTL:PT1H
BEGIN:VTIMEZONE
TZID:Europe/London
BEGIN:DAYLIGHT
TZOFFSETFROM:+0000
TZOFFSETTO:+0100
TZNAME:BST
DTSTART:20250330T010000
END:DAYLIGHT
BEGIN:STANDARD
TZOFFSETFROM:+0100
TZOFFSETTO:+0000
TZNAME:GMT
DTSTART:20251026T010000
END:STANDARD
BEGIN:DAYLIGHT
TZOFFSETFROM:+0000
TZOFFSETTO:+0100
TZNAME:BST
DTSTART:20260329T010000
END:DAYLIGHT
BEGIN:STANDARD
TZOFFSETFROM:+0100
TZOFFSETTO:+0000
TZNAME:GMT
DTSTART:20261025T010000
END:STANDARD
BEGIN:DAYLIGHT
TZOFFSETFROM:+0000
TZOFFSETTO:+0100
TZNAME:BST
DTSTART:20270328T010000
END:DAYLIGHT
BEGIN:STANDARD
TZOFFSETFROM:+0100
TZOFFSETTO:+0000
TZNAME:GMT
DTSTART:20271031T010000
END:STANDARD
END:VTIMEZONE
BEGIN:VEVENT
DTSTART;TZID=Europe/London:20260116T120000
DTEND;TZID=Europe/London:20260116T140000
DTSTAMP:20260423T052450
CREATED:20260102T143634Z
LAST-MODIFIED:20260102T143634Z
UID:10003801-1768564800-1768572000@www.feltmakers.com
SUMMARY:Needle Felting Workshop: 2D Landscape With Deer
DESCRIPTION:Create a beautiful needle felted deer inspired by Tatton Park’s historic deer herd.\nStep into the enchanting world of Tatton Park with our immersive Needle Felting Workshop: Deer in the Forest. You will create a stunning 2D forest scene featuring a majestic deer\, blending texture and colour for a unique artwork. Led by renowned fibre artist Vicky Pulman of Needlessly Felted\, this workshop is suitable for both beginners and seasoned crafters. Inspired by Tatton Park’s serene woodland and its resident deer\, you’ll bring the natural beauty of the forest to life with a combination of needle felting techniques. \nWhat’s Included:\n– A curated selection of high-quality felting wools in natural tones to craft the forest and deer\n– All tools provided\, including felting needles\, mats\, and structural supports for the 3D elements\n– Expert tuition on creating depth and dimension with felting techniques\n– Entry to Tatton Park\, allowing you to explore the parkland for inspiration before or after the workshop \nWhy Attend?\nThis workshop offers a unique way to connect with the natural beauty of Tatton Park while learning creative techniques to craft a dynamic piece of art. You’ll leave with a bespoke framed scene\, perfect for displaying in your home or giving as a thoughtful gift.
URL:https://www.feltmakers.com/event/needle-felting-workshop-2d-landscape-with-deer/
LOCATION:Tatton Park\, Tatton Park\, Knutsford\, Cheshire\, WA16 6QN (Sat Nav WA16 6SG)\, United Kingdom
CATEGORIES:In Person
ATTACH;FMTTYPE=image/png:https://www.feltmakers.com/wp-content/uploads/2026/01/Copy-of-Copy-of-Tatton-3.png
ORGANIZER;CN="Needlessly Felted":MAILTO:scaryfishes@gmail.com
END:VEVENT
END:VCALENDAR