BEGIN:VCALENDAR
VERSION:2.0
PRODID:-//International Feltmakers Association - ECPv6.15.20//NONSGML v1.0//EN
CALSCALE:GREGORIAN
METHOD:PUBLISH
X-ORIGINAL-URL:https://www.feltmakers.com
X-WR-CALDESC:Events for International Feltmakers Association
REFRESH-INTERVAL;VALUE=DURATION:PT1H
X-Robots-Tag:noindex
X-PUBLISHED-TTL:PT1H
BEGIN:VTIMEZONE
TZID:Europe/Luxembourg
BEGIN:DAYLIGHT
TZOFFSETFROM:+0100
TZOFFSETTO:+0200
TZNAME:CEST
DTSTART:20250330T010000
END:DAYLIGHT
BEGIN:STANDARD
TZOFFSETFROM:+0200
TZOFFSETTO:+0100
TZNAME:CET
DTSTART:20251026T010000
END:STANDARD
BEGIN:DAYLIGHT
TZOFFSETFROM:+0100
TZOFFSETTO:+0200
TZNAME:CEST
DTSTART:20260329T010000
END:DAYLIGHT
BEGIN:STANDARD
TZOFFSETFROM:+0200
TZOFFSETTO:+0100
TZNAME:CET
DTSTART:20261025T010000
END:STANDARD
BEGIN:DAYLIGHT
TZOFFSETFROM:+0100
TZOFFSETTO:+0200
TZNAME:CEST
DTSTART:20270328T010000
END:DAYLIGHT
BEGIN:STANDARD
TZOFFSETFROM:+0200
TZOFFSETTO:+0100
TZNAME:CET
DTSTART:20271031T010000
END:STANDARD
END:VTIMEZONE
BEGIN:VTIMEZONE
TZID:Europe/London
BEGIN:DAYLIGHT
TZOFFSETFROM:+0000
TZOFFSETTO:+0100
TZNAME:BST
DTSTART:20220327T010000
END:DAYLIGHT
BEGIN:STANDARD
TZOFFSETFROM:+0100
TZOFFSETTO:+0000
TZNAME:GMT
DTSTART:20221030T010000
END:STANDARD
BEGIN:DAYLIGHT
TZOFFSETFROM:+0000
TZOFFSETTO:+0100
TZNAME:BST
DTSTART:20230326T010000
END:DAYLIGHT
BEGIN:STANDARD
TZOFFSETFROM:+0100
TZOFFSETTO:+0000
TZNAME:GMT
DTSTART:20231029T010000
END:STANDARD
BEGIN:DAYLIGHT
TZOFFSETFROM:+0000
TZOFFSETTO:+0100
TZNAME:BST
DTSTART:20240331T010000
END:DAYLIGHT
BEGIN:STANDARD
TZOFFSETFROM:+0100
TZOFFSETTO:+0000
TZNAME:GMT
DTSTART:20241027T010000
END:STANDARD
BEGIN:DAYLIGHT
TZOFFSETFROM:+0000
TZOFFSETTO:+0100
TZNAME:BST
DTSTART:20250330T010000
END:DAYLIGHT
BEGIN:STANDARD
TZOFFSETFROM:+0100
TZOFFSETTO:+0000
TZNAME:GMT
DTSTART:20251026T010000
END:STANDARD
END:VTIMEZONE
BEGIN:VEVENT
DTSTART;TZID=Europe/Luxembourg:20260410T100000
DTEND;TZID=Europe/Luxembourg:20260413T170000
DTSTAMP:20260423T093328
CREATED:20260302T174850Z
LAST-MODIFIED:20260302T174850Z
UID:10003854-1775815200-1776099600@www.feltmakers.com
SUMMARY:TUBULAR! A Masterclass in Felt Sculpture with Tubes by Judit Pócs
DESCRIPTION:Step into the playful\, sculptural world of tubular felt forms! In this four-day masterclass\, you will design and create your own unique felt sculpture enriched with boldly textured tubes. The shared theme is “playing with tubes\,” but every participant will develop a personal form and artistic direction. \nWe begin with a small sample piece\, incorporating one or two tubes to get familiar with the techniques. Throughout the workshop\, you’ll work with sponge rollers used for painting and soft foam tubes from plumbing insulation—our base forms for building the felt layer. These felt-covered tubes will then be integrated into your sculpture and firmly felted onto the surface. \nTo enrich the texture\, you may work with Lyocell or silk fibers\, yarns\, or even shimmering sequin-fabric mosaics to create metallic effects. Contrasting textures bring exciting visual rhythm to the surface. Tubes may remain open and hollow\, or—through a more complex process—the longer ones can be attached at both ends to different surfaces. \nTube-decorated sculptures can evoke a futuristic\, slightly industrial atmosphere\, or lean toward a more organic\, natural feel depending on how you design the base shape. \nJoin us for four days of experimentation\, structure\, and sculptural exploration. \nBe bold\, be playful\, be TUBULAR!
URL:https://www.feltmakers.com/event/tubular-a-masterclass-in-felt-sculpture-with-tubes-by-judit-pocs/
LOCATION:Studio Vrouw Wolle\, Kapelstraat 81\, Essen\, Antwerpen\, 2910\, Belgium
CATEGORIES:In Person
ATTACH;FMTTYPE=image/jpeg:https://www.feltmakers.com/wp-content/uploads/2026/03/Judit-Pocs.jpeg
END:VEVENT
BEGIN:VEVENT
DTSTART;VALUE=DATE:20241122
DTEND;VALUE=DATE:20241124
DTSTAMP:20260423T093328
CREATED:20240716T082132Z
LAST-MODIFIED:20240716T083215Z
UID:10003035-1732233600-1732406399@www.feltmakers.com
SUMMARY:Parrot hand puppets by Yaroslava Troynich from Bibabopuppets
DESCRIPTION:Let’s dive in to the jungle of 3D felting! In this 2-day felting workshop you will make a very unique and colourful parrot hand puppet of your choice. \nIt is the best way to learn 3D wet felting – birds and animals never disappoint and there are lots of techniques and materials to try. \nIt is quite challenging class\, but it gives great opportunity to learn how to design 3D-models for bird-shaped hand puppets\, how to work with different types of wool and fibres\, how to sculpture complicated shapes\, and the very solid base of needle and wet felting. \nThe result will be a gorgeous bird with quite realistic looks and big amount of high quality knowledge to use in your other projects. \nAnd surely lots of fun and positive atmosphere are guaranteed.
URL:https://www.feltmakers.com/event/parrot-hand-puppets-by-yaroslava-troynich-from-bibabopuppets/
LOCATION:Studio Vrouw Wolle\, Kapelstraat 81\, Essen\, Antwerpen\, 2910\, Belgium
CATEGORIES:In Person
ATTACH;FMTTYPE=image/jpeg:https://www.feltmakers.com/wp-content/uploads/2024/07/bibabpuppets_parrots1-aangepast-1.jpg
ORGANIZER;CN="Atelier Vrouw Wolle":MAILTO:info@vrouwwolle.be
END:VEVENT
BEGIN:VEVENT
DTSTART;VALUE=DATE:20240914
DTEND;VALUE=DATE:20240915
DTSTAMP:20260423T093328
CREATED:20230726T074241Z
LAST-MODIFIED:20230726T074241Z
UID:10000284-1726300800-1726333200@www.feltmakers.com
SUMMARY:Extra dates! Felt and the Found Object object By Anita Larkin Johnson
DESCRIPTION:Anita will lead students in learning practical ways of making sculptural assemblages from their found objects. Students will use effective hand-tool methods\, cutting\, modelling\, screwing\, wiring\, and riveting things together\, as they look at ways that narrative can evolve from joining disparate objects together. Skills in using the Dremel and modelling materials to make seamless joins between objects will be shared. The workshop follows on from this object assemblage to explore various methods of felting around parts of the sculpture. Anita will share different ways to accommodate the migration of the fibres around a solid object\, thereby achieving a felt skin of integrity around it. A pleasing contrast of hard materials against the softness of the felt can be observed when parts of the object are left to protrude\, or an object may be left entirely enshrouded in its felt skin. The class will discuss how sculptural assemblage of found objects and the incorporation of felt around sections of them\, can lead to unexpected and emotive narratives in artworks.
URL:https://www.feltmakers.com/event/extra-dates-felt-and-the-found-object-object-by-anita-larkin-johnson/2024-09-14/2/
LOCATION:Studio Vrouw Wolle\, Kapelstraat 81\, Essen\, Antwerpen\, 2910\, Belgium
CATEGORIES:In Person
ATTACH;FMTTYPE=image/jpeg:https://www.feltmakers.com/wp-content/uploads/2023/07/ALarkin1.jpg
ORGANIZER;CN="Feltstudio Vrouw Wolle":MAILTO:info@vrouwwolle.be
END:VEVENT
BEGIN:VEVENT
DTSTART;VALUE=DATE:20240914
DTEND;VALUE=DATE:20240917
DTSTAMP:20260423T093328
CREATED:20230726T074241Z
LAST-MODIFIED:20230726T074241Z
UID:10000283-1726272000-1726531199@www.feltmakers.com
SUMMARY:Extra dates! Felt and the Found Object object By Anita Larkin Johnson
DESCRIPTION:Anita will lead students in learning practical ways of making sculptural assemblages from their found objects. Students will use effective hand-tool methods\, cutting\, modelling\, screwing\, wiring\, and riveting things together\, as they look at ways that narrative can evolve from joining disparate objects together. Skills in using the Dremel and modelling materials to make seamless joins between objects will be shared. The workshop follows on from this object assemblage to explore various methods of felting around parts of the sculpture. Anita will share different ways to accommodate the migration of the fibres around a solid object\, thereby achieving a felt skin of integrity around it. A pleasing contrast of hard materials against the softness of the felt can be observed when parts of the object are left to protrude\, or an object may be left entirely enshrouded in its felt skin. The class will discuss how sculptural assemblage of found objects and the incorporation of felt around sections of them\, can lead to unexpected and emotive narratives in artworks.
URL:https://www.feltmakers.com/event/extra-dates-felt-and-the-found-object-object-by-anita-larkin-johnson/2024-09-14/1/
LOCATION:Studio Vrouw Wolle\, Kapelstraat 81\, Essen\, Antwerpen\, 2910\, Belgium
CATEGORIES:In Person
ATTACH;FMTTYPE=image/jpeg:https://www.feltmakers.com/wp-content/uploads/2023/07/ALarkin1.jpg
ORGANIZER;CN="Feltstudio Vrouw Wolle":MAILTO:info@vrouwwolle.be
END:VEVENT
BEGIN:VEVENT
DTSTART;VALUE=DATE:20240912
DTEND;VALUE=DATE:20240914
DTSTAMP:20260423T093328
CREATED:20230726T074919Z
LAST-MODIFIED:20230726T074919Z
UID:10000285-1726099200-1726271999@www.feltmakers.com
SUMMARY:Extra datums! Felt as Substance By Anita Larkin Johnson
DESCRIPTION:This workshop explores looking at wool fibres and felt from the point of view of being a substance for sculpture that can interact with other substances and build upon itself similar to clay. Learn the skill of skin-felting to make hollow sculptural felt forms directly by hand without the use of a plastic resist. This method allows for complex shapes to be modelled in 3 dimensions directly. This class will also explore the ways that numerous substances interact with the surface of finished felt vessels. Apply gold leaf\, silicone\, wax\, burning\, putty\, tar\, and other substances to felt forms that can transform that felted shape into an object of structural strength\, intrigue\, and beauty. This workshop will leave the felt artist with many new ideas for future felt projects.
URL:https://www.feltmakers.com/event/extra-datums-felt-as-substance-by-anita-larkin-johnson/
LOCATION:Studio Vrouw Wolle\, Kapelstraat 81\, Essen\, Antwerpen\, 2910\, Belgium
CATEGORIES:In Person
ATTACH;FMTTYPE=image/jpeg:https://www.feltmakers.com/wp-content/uploads/2023/07/9412c65057d837db6a43ed281bde1b85.jpg
ORGANIZER;CN="Atelier Vrouw Wolle":MAILTO:info@vrouwwolle.be
END:VEVENT
BEGIN:VEVENT
DTSTART;VALUE=DATE:20231028
DTEND;VALUE=DATE:20231031
DTSTAMP:20260423T093328
CREATED:20230512T122231Z
LAST-MODIFIED:20230512T122241Z
UID:10000268-1698451200-1698710399@www.feltmakers.com
SUMMARY:Greetings from discworld by Charlotte Semisch
DESCRIPTION:This class is about to create three dimensional Objects such as hats \, spheres or bowls\, consisting of layered chambers. Those are centeredand describe the inner space symmetrically or asymmetrically by means of structured walls.
URL:https://www.feltmakers.com/event/greetings-from-discworld-by-charlotte-semisch/
LOCATION:Studio Vrouw Wolle\, Kapelstraat 81\, Essen\, Antwerpen\, 2910\, Belgium
CATEGORIES:In Person
ATTACH;FMTTYPE=image/jpeg:https://www.feltmakers.com/wp-content/uploads/2023/05/2017-05-10-14-39-49-1.jpg
ORGANIZER;CN="Feltstudio Vrouw Wolle":MAILTO:info@vrouwwolle.be
END:VEVENT
BEGIN:VEVENT
DTSTART;VALUE=DATE:20231010
DTEND;VALUE=DATE:20231013
DTSTAMP:20260423T093328
CREATED:20230512T121028Z
LAST-MODIFIED:20230512T121028Z
UID:10000267-1696896000-1697155199@www.feltmakers.com
SUMMARY:Depth of Surface: Patterning\, Fabric Fusion & Machine Stitching by Lisa Klakulak
DESCRIPTION:Participants will explore the variables in the wet felting process of coercing wool fibers through fabrics of various structures\, fiber types\, densities and surface design to develop unique surface texture and design modifications. \nAdditionally\, shapes cut from sheets of felt that have been partially felted to different levels of integrity will be used to create pattern fields as well ast o create a contrasting texture resist. \nFree-motion embroidery will then be implemented to define shape edges\, accent textures and emboss thick felt. \nEnhance your felt work with a fresh surface aesthetic! \nFor this course it is necessary to bring a sewing machine that has feed dogs that drop and a free motion embroidery foot or a darning foot \nImportant to know: the coursework is aimed at studies of composition and aesthetic development rather than finished objects
URL:https://www.feltmakers.com/event/depth-of-surface-patterning-fabric-fusion-machine-stitching-by-lisa-klakulak/
LOCATION:Studio Vrouw Wolle\, Kapelstraat 81\, Essen\, Antwerpen\, 2910\, Belgium
CATEGORIES:In Person
ATTACH;FMTTYPE=image/jpeg:https://www.feltmakers.com/wp-content/uploads/2023/05/332770263_1894186310933401_273688081409359939_n.jpg
ORGANIZER;CN="Feltstudio Vrouw Wolle":MAILTO:info@vrouwwolle.be
END:VEVENT
BEGIN:VEVENT
DTSTART;VALUE=DATE:20231005
DTEND;VALUE=DATE:20231009
DTSTAMP:20260423T093328
CREATED:20230512T115513Z
LAST-MODIFIED:20230512T120620Z
UID:10000266-1696464000-1696809599@www.feltmakers.com
SUMMARY:Resist-based Pendants: Hollow Forms\, Dimensional Surfaces & Object Encasement By Lisa Klalulak
DESCRIPTION:Participants will explore 3D techniques for creating unique small scale pendants with hanging bails using 2D template resists. \nLearn to encase durable objects to add color\, texture\, material complexity and conceptual relevancy in your work. \nBy simply wrapping fiber around an object\, one doesn’t provide ample space for the fibers to felt and therefore one must employ a resist larger than the object\, which involved just a little calculation! Then\, sculpt hollow form using surface resists to create dimensional planes of felt and embed partial felt within the surface to develop convex protrusions through differential shrinkage.
URL:https://www.feltmakers.com/event/resist-based-pendants-hollow-forms-dimensional-surfaces-object-encasement-by-lisa-klalulak/
LOCATION:Studio Vrouw Wolle\, Kapelstraat 81\, Essen\, Antwerpen\, 2910\, Belgium
CATEGORIES:In Person,Online
ATTACH;FMTTYPE=image/jpeg:https://www.feltmakers.com/wp-content/uploads/2023/05/332890874_726952362206256_7664044223116075790_n-1.jpg
ORGANIZER;CN="Feltstudio Vrouw Wolle":MAILTO:info@vrouwwolle.be
END:VEVENT
END:VCALENDAR