BEGIN:VCALENDAR
VERSION:2.0
PRODID:-//International Feltmakers Association - ECPv6.15.20//NONSGML v1.0//EN
CALSCALE:GREGORIAN
METHOD:PUBLISH
X-WR-CALNAME:International Feltmakers Association
X-ORIGINAL-URL:https://www.feltmakers.com
X-WR-CALDESC:Events for International Feltmakers Association
REFRESH-INTERVAL;VALUE=DURATION:PT1H
X-Robots-Tag:noindex
X-PUBLISHED-TTL:PT1H
BEGIN:VTIMEZONE
TZID:Europe/Berlin
BEGIN:DAYLIGHT
TZOFFSETFROM:+0100
TZOFFSETTO:+0200
TZNAME:CEST
DTSTART:20250330T010000
END:DAYLIGHT
BEGIN:STANDARD
TZOFFSETFROM:+0200
TZOFFSETTO:+0100
TZNAME:CET
DTSTART:20251026T010000
END:STANDARD
BEGIN:DAYLIGHT
TZOFFSETFROM:+0100
TZOFFSETTO:+0200
TZNAME:CEST
DTSTART:20260329T010000
END:DAYLIGHT
BEGIN:STANDARD
TZOFFSETFROM:+0200
TZOFFSETTO:+0100
TZNAME:CET
DTSTART:20261025T010000
END:STANDARD
BEGIN:DAYLIGHT
TZOFFSETFROM:+0100
TZOFFSETTO:+0200
TZNAME:CEST
DTSTART:20270328T010000
END:DAYLIGHT
BEGIN:STANDARD
TZOFFSETFROM:+0200
TZOFFSETTO:+0100
TZNAME:CET
DTSTART:20271031T010000
END:STANDARD
END:VTIMEZONE
BEGIN:VEVENT
DTSTART;TZID=Europe/Berlin:20260530T180000
DTEND;TZID=Europe/Berlin:20260530T210000
DTSTAMP:20260420T025909
CREATED:20231218T144022Z
LAST-MODIFIED:20260204T102309Z
UID:10003826-1780164000-1780174800@www.feltmakers.com
SUMMARY:N° 26/05 FELTED SHIELD WALL PANEL\, Online workshop with Dagmar Binder
DESCRIPTION:In this workshop you are going to create a convex felted wall shield with decorative line patterns. You will learn how to make a solid\, substantial felt object and design its surface in a very individual way. A variety of inspirations can be found in maps\, mazes\, cave paintings or contemporary art\, letters and symbols\, or you can just invent your own drawings.\nWe’ll have a close look at the so-called cracked-mud-technique and complement it by some specific details to achieve a clear and well felted structure.\nOptionally\, you may want to add some extensions to the basic form and we’ll see how to connect them to the shield’s body in a firm and fluent way. \nThere are 3 groups available for different time zones\, each one meets on 2 days: \nGr. 1  May 28/29\, 2026 in English 08-11 a.m. (CEST\, Berlin time = suitable for Europe\, Australia/NZ)\nGr. 2  May 30/31\, 2026 in Deutsch 10 -13 h\nGr. 3  May 30/31\, 2026 in English 06-09 p.m. (CEST\, Berlin time = suitable for Europe\, America)
URL:https://www.feltmakers.com/event/online-workshop-no-24-03-felted-shield-wall-panel/2026-05-30/
LOCATION:Online via Zoom
CATEGORIES:Online
ATTACH;FMTTYPE=image/jpeg:https://www.feltmakers.com/wp-content/uploads/2023/12/shield1.jpg
ORGANIZER;CN="Dagmar Binder%2C textillabor":MAILTO:dagmar@textillabor.de
END:VEVENT
BEGIN:VEVENT
DTSTART;TZID=Europe/Berlin:20260531T180000
DTEND;TZID=Europe/Berlin:20260531T210000
DTSTAMP:20260420T025909
CREATED:20231218T144022Z
LAST-MODIFIED:20260204T102309Z
UID:10003827-1780250400-1780261200@www.feltmakers.com
SUMMARY:N° 26/05 FELTED SHIELD WALL PANEL\, Online workshop with Dagmar Binder
DESCRIPTION:In this workshop you are going to create a convex felted wall shield with decorative line patterns. You will learn how to make a solid\, substantial felt object and design its surface in a very individual way. A variety of inspirations can be found in maps\, mazes\, cave paintings or contemporary art\, letters and symbols\, or you can just invent your own drawings.\nWe’ll have a close look at the so-called cracked-mud-technique and complement it by some specific details to achieve a clear and well felted structure.\nOptionally\, you may want to add some extensions to the basic form and we’ll see how to connect them to the shield’s body in a firm and fluent way. \nThere are 3 groups available for different time zones\, each one meets on 2 days: \nGr. 1  May 28/29\, 2026 in English 08-11 a.m. (CEST\, Berlin time = suitable for Europe\, Australia/NZ)\nGr. 2  May 30/31\, 2026 in Deutsch 10 -13 h\nGr. 3  May 30/31\, 2026 in English 06-09 p.m. (CEST\, Berlin time = suitable for Europe\, America)
URL:https://www.feltmakers.com/event/online-workshop-no-24-03-felted-shield-wall-panel/2026-05-31/
LOCATION:Online via Zoom
CATEGORIES:Online
ATTACH;FMTTYPE=image/jpeg:https://www.feltmakers.com/wp-content/uploads/2023/12/shield1.jpg
ORGANIZER;CN="Dagmar Binder%2C textillabor":MAILTO:dagmar@textillabor.de
END:VEVENT
BEGIN:VEVENT
DTSTART;TZID=Europe/Berlin:20260725T180000
DTEND;TZID=Europe/Berlin:20260725T210000
DTSTAMP:20260420T025909
CREATED:20260204T101232Z
LAST-MODIFIED:20260204T102421Z
UID:10003830-1785002400-1785013200@www.feltmakers.com
SUMMARY:N° 26/07 RUFFLED COLLAR\, Online workshop with Dagmar Binder
DESCRIPTION:3 COLLARS – 3 FELTING TECHNIQUES\,\npart I: RUFFLED COLLAR \nThis collar with a relatively simple basic form disposes of several lamellae which can be stretched and draped in smoothly ruffled layers. We will practise a targeted layout for an elastic type of felt in a seamless 3d version. Even with only little felting experience you can dare to make a 3-4 lamellae collar and would receive a beautiful and attractive result. The faster or more experienced of you may want to add some extra resists and integrate additional partial layers or petals. \nThere are 3 groups available for different time zones\, each one meets on 2 days:\nGr. 1  July 23/24\, 2026 in English 08-11 a.m. (CEST\, Berlin time = suitable for Europe\, Australia/NZ)\nGr. 2  July 25/26\, 2026 in Deutsch 10 -13 h\nGr. 3  July 25/26\, 2026 in English 06-09 p.m. (CEST\, Berlin time = suitable for Europe\, America) \nFrom module 1 to 3 of the COLLAR SERIES\, we will have a look at different techniques and possibilities for a decorative neckpiece\, gradually increase the complexity and level of our projects. You may consider participating in all 3 workshops (at a discount price) and take the chance to improve and expand your skills step by step. Some weeks in between allow further practising or experimenting with the new technique. If you wish\, you can also book just a single one of the workshops.
URL:https://www.feltmakers.com/event/n-26-07-ruffled-collar-online-workshop-with-dagmar-binder/2026-07-25/
LOCATION:Online via Zoom
CATEGORIES:Online
ATTACH;FMTTYPE=image/jpeg:https://www.feltmakers.com/wp-content/uploads/2026/02/boa1.jpg
ORGANIZER;CN="Dagmar Binder%2C textillabor":MAILTO:dagmar@textillabor.de
END:VEVENT
BEGIN:VEVENT
DTSTART;TZID=Europe/Berlin:20260726T180000
DTEND;TZID=Europe/Berlin:20260726T210000
DTSTAMP:20260420T025909
CREATED:20260204T101232Z
LAST-MODIFIED:20260204T102421Z
UID:10003831-1785088800-1785099600@www.feltmakers.com
SUMMARY:N° 26/07 RUFFLED COLLAR\, Online workshop with Dagmar Binder
DESCRIPTION:3 COLLARS – 3 FELTING TECHNIQUES\,\npart I: RUFFLED COLLAR \nThis collar with a relatively simple basic form disposes of several lamellae which can be stretched and draped in smoothly ruffled layers. We will practise a targeted layout for an elastic type of felt in a seamless 3d version. Even with only little felting experience you can dare to make a 3-4 lamellae collar and would receive a beautiful and attractive result. The faster or more experienced of you may want to add some extra resists and integrate additional partial layers or petals. \nThere are 3 groups available for different time zones\, each one meets on 2 days:\nGr. 1  July 23/24\, 2026 in English 08-11 a.m. (CEST\, Berlin time = suitable for Europe\, Australia/NZ)\nGr. 2  July 25/26\, 2026 in Deutsch 10 -13 h\nGr. 3  July 25/26\, 2026 in English 06-09 p.m. (CEST\, Berlin time = suitable for Europe\, America) \nFrom module 1 to 3 of the COLLAR SERIES\, we will have a look at different techniques and possibilities for a decorative neckpiece\, gradually increase the complexity and level of our projects. You may consider participating in all 3 workshops (at a discount price) and take the chance to improve and expand your skills step by step. Some weeks in between allow further practising or experimenting with the new technique. If you wish\, you can also book just a single one of the workshops.
URL:https://www.feltmakers.com/event/n-26-07-ruffled-collar-online-workshop-with-dagmar-binder/2026-07-26/
LOCATION:Online via Zoom
CATEGORIES:Online
ATTACH;FMTTYPE=image/jpeg:https://www.feltmakers.com/wp-content/uploads/2026/02/boa1.jpg
ORGANIZER;CN="Dagmar Binder%2C textillabor":MAILTO:dagmar@textillabor.de
END:VEVENT
BEGIN:VEVENT
DTSTART;TZID=Europe/Berlin:20260912T180000
DTEND;TZID=Europe/Berlin:20260912T210000
DTSTAMP:20260420T025909
CREATED:20260204T103145Z
LAST-MODIFIED:20260204T103145Z
UID:10003832-1789236000-1789246800@www.feltmakers.com
SUMMARY:N° 26/09 FEATHER COLLAR\, Online workshop with Dagmar Binder
DESCRIPTION:3 COLLARS – 3 FELTING TECHNIQUES\,\npart II: FEATHER COLLAR \nFor a collar with feathers or petals we will build a 3d structure of many small elements on the surface of a basic form. We will focus on a precise and fine layout of all single „ingredients“\, clear contours and a harmonic position of all feathers on the base. With a complex composition like this we should take good care when starting the felting process itself\, to keep control of all components included and make sure they would all connect properly.\nYou should have some prior experience working with resists (or\, to make it easier\, begin with a version with not too many feathers). \nThere are 3 groups available for different time zones\, each one meets on 2 days:\nGr. 1  September 10/11\, 2026 in English 08-11 a.m. (CEST\, Berlin time = suitable for Europe\, Australia/NZ)\nGr. 2  September 12/13\, 2026 in Deutsch 10 -13 h\nGr. 3  September 12/13\, 2026 in English 06-09 p.m. (CEST\, Berlin time = suitable for Europe\, America) \nFrom module 1 to 3 of the COLLAR SERIES\, we will have a look at different techniques and possibilities for a decorative neckpiece\, gradually increase the complexity and level of our projects. You may consider participating in all 3 workshops (at a discount price) and take the chance to improve and expand your skills step by step. Some weeks in between allow further practising or experimenting with the new technique. If you wish\, you can also book just a single one of the workshops.
URL:https://www.feltmakers.com/event/n-26-09-feather-collar-online-workshop-with-dagmar-binder/2026-09-12/
LOCATION:Online via Zoom
CATEGORIES:Online
ATTACH;FMTTYPE=image/jpeg:https://www.feltmakers.com/wp-content/uploads/2026/02/21_02_feathers.jpg
ORGANIZER;CN="Dagmar Binder%2C textillabor":MAILTO:dagmar@textillabor.de
END:VEVENT
BEGIN:VEVENT
DTSTART;TZID=Europe/Berlin:20260913T180000
DTEND;TZID=Europe/Berlin:20260913T210000
DTSTAMP:20260420T025909
CREATED:20260204T103145Z
LAST-MODIFIED:20260204T103145Z
UID:10003833-1789322400-1789333200@www.feltmakers.com
SUMMARY:N° 26/09 FEATHER COLLAR\, Online workshop with Dagmar Binder
DESCRIPTION:3 COLLARS – 3 FELTING TECHNIQUES\,\npart II: FEATHER COLLAR \nFor a collar with feathers or petals we will build a 3d structure of many small elements on the surface of a basic form. We will focus on a precise and fine layout of all single „ingredients“\, clear contours and a harmonic position of all feathers on the base. With a complex composition like this we should take good care when starting the felting process itself\, to keep control of all components included and make sure they would all connect properly.\nYou should have some prior experience working with resists (or\, to make it easier\, begin with a version with not too many feathers). \nThere are 3 groups available for different time zones\, each one meets on 2 days:\nGr. 1  September 10/11\, 2026 in English 08-11 a.m. (CEST\, Berlin time = suitable for Europe\, Australia/NZ)\nGr. 2  September 12/13\, 2026 in Deutsch 10 -13 h\nGr. 3  September 12/13\, 2026 in English 06-09 p.m. (CEST\, Berlin time = suitable for Europe\, America) \nFrom module 1 to 3 of the COLLAR SERIES\, we will have a look at different techniques and possibilities for a decorative neckpiece\, gradually increase the complexity and level of our projects. You may consider participating in all 3 workshops (at a discount price) and take the chance to improve and expand your skills step by step. Some weeks in between allow further practising or experimenting with the new technique. If you wish\, you can also book just a single one of the workshops.
URL:https://www.feltmakers.com/event/n-26-09-feather-collar-online-workshop-with-dagmar-binder/2026-09-13/
LOCATION:Online via Zoom
CATEGORIES:Online
ATTACH;FMTTYPE=image/jpeg:https://www.feltmakers.com/wp-content/uploads/2026/02/21_02_feathers.jpg
ORGANIZER;CN="Dagmar Binder%2C textillabor":MAILTO:dagmar@textillabor.de
END:VEVENT
END:VCALENDAR