BEGIN:VCALENDAR
VERSION:2.0
PRODID:-//International Feltmakers Association - ECPv6.15.20//NONSGML v1.0//EN
CALSCALE:GREGORIAN
METHOD:PUBLISH
X-ORIGINAL-URL:https://www.feltmakers.com
X-WR-CALDESC:Events for International Feltmakers Association
REFRESH-INTERVAL;VALUE=DURATION:PT1H
X-Robots-Tag:noindex
X-PUBLISHED-TTL:PT1H
BEGIN:VTIMEZONE
TZID:Europe/London
BEGIN:DAYLIGHT
TZOFFSETFROM:+0000
TZOFFSETTO:+0100
TZNAME:BST
DTSTART:20220327T010000
END:DAYLIGHT
BEGIN:STANDARD
TZOFFSETFROM:+0100
TZOFFSETTO:+0000
TZNAME:GMT
DTSTART:20221030T010000
END:STANDARD
BEGIN:DAYLIGHT
TZOFFSETFROM:+0000
TZOFFSETTO:+0100
TZNAME:BST
DTSTART:20230326T010000
END:DAYLIGHT
BEGIN:STANDARD
TZOFFSETFROM:+0100
TZOFFSETTO:+0000
TZNAME:GMT
DTSTART:20231029T010000
END:STANDARD
BEGIN:DAYLIGHT
TZOFFSETFROM:+0000
TZOFFSETTO:+0100
TZNAME:BST
DTSTART:20240331T010000
END:DAYLIGHT
BEGIN:STANDARD
TZOFFSETFROM:+0100
TZOFFSETTO:+0000
TZNAME:GMT
DTSTART:20241027T010000
END:STANDARD
BEGIN:DAYLIGHT
TZOFFSETFROM:+0000
TZOFFSETTO:+0100
TZNAME:BST
DTSTART:20250330T010000
END:DAYLIGHT
BEGIN:STANDARD
TZOFFSETFROM:+0100
TZOFFSETTO:+0000
TZNAME:GMT
DTSTART:20251026T010000
END:STANDARD
BEGIN:DAYLIGHT
TZOFFSETFROM:+0000
TZOFFSETTO:+0100
TZNAME:BST
DTSTART:20260329T010000
END:DAYLIGHT
BEGIN:STANDARD
TZOFFSETFROM:+0100
TZOFFSETTO:+0000
TZNAME:GMT
DTSTART:20261025T010000
END:STANDARD
BEGIN:DAYLIGHT
TZOFFSETFROM:+0000
TZOFFSETTO:+0100
TZNAME:BST
DTSTART:20270328T010000
END:DAYLIGHT
BEGIN:STANDARD
TZOFFSETFROM:+0100
TZOFFSETTO:+0000
TZNAME:GMT
DTSTART:20271031T010000
END:STANDARD
END:VTIMEZONE
BEGIN:VEVENT
DTSTART;VALUE=DATE:20260328
DTEND;VALUE=DATE:20260330
DTSTAMP:20260417T031913
CREATED:20260104T112025Z
LAST-MODIFIED:20260104T112025Z
UID:10003802-1774656000-1774828799@www.feltmakers.com
SUMMARY:Wet felting workshop with Atelier Nicomy
DESCRIPTION:Learning  wet felting with soap and water technique on Saturday\, March 28\, 2026. Experiment the layout with different types of wool. Create a small picture in the morning. Then create three-dimensional mushrooms in the afternoon. Accessible to all.\nOn Sunday\, March 29\, Level 2 workshop. Open to those who already have some experience with felting.\nCreate three-dimensional merino wool flowers using resists.\nIt is possible to participate in both days consecutively.\nPrice: €95 per day\, all-inclusive\, materials provided. \nRegistration atelier.nicomy@gmail.com
URL:https://www.feltmakers.com/event/wet-felting-workshop-with-atelier-nicomy/
LOCATION:Maison du Colombier 5 rue du Four Banal 38460 Crémieu France\, 5 rue du Four Banal\, Crémieu\, Auvergne Rhones-Alpes\, 38460\, France
CATEGORIES:In Person
ATTACH;FMTTYPE=image/jpeg:https://www.feltmakers.com/wp-content/uploads/2026/01/Stage-initiation-FEUTRE-Mars2026.jpg
ORGANIZER;CN="Atelier Nicomy":MAILTO:myriaminlyon@hotmail.com
END:VEVENT
BEGIN:VEVENT
DTSTART;VALUE=DATE:20250111
DTEND;VALUE=DATE:20250115
DTSTAMP:20260417T031913
CREATED:20240906T091207Z
LAST-MODIFIED:20240906T091207Z
UID:10003062-1736553600-1736899199@www.feltmakers.com
SUMMARY:Wet felting wool workshop in France near Lyon by Atelier Nicomy
DESCRIPTION:Here are the next felted wool courses bu Atelier Nicomy in January 2025\, in the medieval city of Crémieu in northern Isère\, France. \n🍄 SATURDAY JANUARY 11\, introduction to the traditional technique of wet felting using water and soap. Open to all\, beginners welcome. Morning creation of a wool painting. Afternoon\, volume felting (mushrooms or hand puppet). Cost : 95€ / per person for the day. \n🪸 SUNDAY JANUARY 12\, level 1 course for people who have already felted. “Research and animated surfaces”. We will create a painting whose surface will bring together felting tests of different fibers and materials (textiles\, plants …)\, material tests using reserves (scales …) Cost : 95€ / per person for the day. \n👍 MONDAY 13 & TUESDAY 14 JANUARY\, level 2 course / experienced.\nPossibility to participate in one day or two days\, depending on the project envisaged. I propose a one-day project: creation of a hanging plant in volume. Or a 2-day project: creation of a large graphic painting in wool\, “stained glass rendering” (use of pre-felts…). Cost : 120€ / per person for the day. \nDo not hesitate to contact me to discuss your projects and ask your questions.\nThe price indicated is a group rate that applies from 3 participants for the same day.
URL:https://www.feltmakers.com/event/wet-felting-wool-workshop-in-france-near-lyon-by-atelier-nicomy/
LOCATION:Maison du Colombier 5 rue du Four Banal 38460 Crémieu France\, 5 rue du Four Banal\, Crémieu\, Auvergne Rhones-Alpes\, 38460\, France
CATEGORIES:In Person
ATTACH;FMTTYPE=image/jpeg:https://www.feltmakers.com/wp-content/uploads/2024/09/StageFeutre-janvier2025.jpg
ORGANIZER;CN="Atelier Nicomy":MAILTO:myriaminlyon@hotmail.com
END:VEVENT
BEGIN:VEVENT
DTSTART;TZID=Europe/London:20230331T140000
DTEND;TZID=Europe/London:20230402T170000
DTSTAMP:20260417T031913
CREATED:20230311T165943Z
LAST-MODIFIED:20230311T165943Z
UID:10000228-1680271200-1680454800@www.feltmakers.com
SUMMARY:SPRING FIBERS\, the new textile event in Crémieu\, France
DESCRIPTION:On the occasion of the European Days of Crafts we organize the event “Spring Fibers” on March 31 /April  1st and 2sd.\nThe Spring Fibers takes you to the discovery of textile techniques around natural fibres.\nFelt\, knitting\, crochet\, sewing\, spinning\, dyeing… are all skills that bring us together around wool\, silk\, cotton…\nThrough our practices\, we aim to highlight quality materials and their technical characteristics\, to sublimate the daily life of interiors\, is to invite you to the dream with a common staging that reveals the poetry of every day.\nIn parallel to the exhibition-sale\, we offer various demonstrations and workshops by reservation.
URL:https://www.feltmakers.com/event/spring-fibers-the-new-textile-event-in-cremieu-france/
LOCATION:Maison du Colombier 5 rue du Four Banal 38460 Crémieu France\, 5 rue du Four Banal\, Crémieu\, Auvergne Rhones-Alpes\, 38460\, France
CATEGORIES:In Person
ATTACH;FMTTYPE=image/jpeg:https://www.feltmakers.com/wp-content/uploads/2023/03/afficheFibresP2023-reseaux.jpg
ORGANIZER;CN="Atelier Nicomy":MAILTO:myriaminlyon@hotmail.com
END:VEVENT
END:VCALENDAR