BEGIN:VCALENDAR
VERSION:2.0
PRODID:-//International Feltmakers Association - ECPv6.15.20//NONSGML v1.0//EN
CALSCALE:GREGORIAN
METHOD:PUBLISH
X-ORIGINAL-URL:https://www.feltmakers.com
X-WR-CALDESC:Events for International Feltmakers Association
REFRESH-INTERVAL;VALUE=DURATION:PT1H
X-Robots-Tag:noindex
X-PUBLISHED-TTL:PT1H
BEGIN:VTIMEZONE
TZID:Europe/London
BEGIN:DAYLIGHT
TZOFFSETFROM:+0000
TZOFFSETTO:+0100
TZNAME:BST
DTSTART:20250330T010000
END:DAYLIGHT
BEGIN:STANDARD
TZOFFSETFROM:+0100
TZOFFSETTO:+0000
TZNAME:GMT
DTSTART:20251026T010000
END:STANDARD
BEGIN:DAYLIGHT
TZOFFSETFROM:+0000
TZOFFSETTO:+0100
TZNAME:BST
DTSTART:20260329T010000
END:DAYLIGHT
BEGIN:STANDARD
TZOFFSETFROM:+0100
TZOFFSETTO:+0000
TZNAME:GMT
DTSTART:20261025T010000
END:STANDARD
BEGIN:DAYLIGHT
TZOFFSETFROM:+0000
TZOFFSETTO:+0100
TZNAME:BST
DTSTART:20270328T010000
END:DAYLIGHT
BEGIN:STANDARD
TZOFFSETFROM:+0100
TZOFFSETTO:+0000
TZNAME:GMT
DTSTART:20271031T010000
END:STANDARD
END:VTIMEZONE
BEGIN:VEVENT
DTSTART;TZID=Europe/London:20260314T100000
DTEND;TZID=Europe/London:20260329T150000
DTSTAMP:20260421T215416
CREATED:20260105T180127Z
LAST-MODIFIED:20260128T165822Z
UID:10003803-1773482400-1774796400@www.feltmakers.com
SUMMARY:FELT CONNECTED: Bringing Fibre & People Together
DESCRIPTION:An exhibition of 2d and 3D fibre art by members of the International Feltmakers Association \nPlans are underway for our first ever Region 8 Members Exhibition to be held in Harding House Gallery on Steep Hill in Lincoln LN2 1LT from the 14th to the 29th March. We are excited to have 17 members signed up which will provide us with a wonderful cross section of work in a wide variety of techniques and styles. Our aim is three fold (1) to introduce visitors to our organisation and hopefully attract new members (2) to demonstrate the incredible versatility of fibre (3) to showcase the terrific creativity that we have within our region.\nThese images show just a few examples of the many pieces of work that will be on display.\nThe exhibition will run for two weeks from 14th – 29th March 2026 with a “meet the artists” session from 1pm – 3pm on Saturday 14th.
URL:https://www.feltmakers.com/event/felt-connected-bringing-fibre-people-together/
LOCATION:Harding House Gallery\, Steep Hill\, Lincoln\, Lincolnshire\, LN2 1LT\, United Kingdom
CATEGORIES:In Person
ATTACH;FMTTYPE=image/jpeg:https://www.feltmakers.com/wp-content/uploads/2026/01/IMG_4642.jpeg
ORGANIZER;CN="Karen Lane":MAILTO:lincsinstitches@gmail.com
END:VEVENT
END:VCALENDAR