BEGIN:VCALENDAR
VERSION:2.0
PRODID:-//International Feltmakers Association - ECPv6.15.20//NONSGML v1.0//EN
CALSCALE:GREGORIAN
METHOD:PUBLISH
X-ORIGINAL-URL:https://www.feltmakers.com
X-WR-CALDESC:Events for International Feltmakers Association
REFRESH-INTERVAL;VALUE=DURATION:PT1H
X-Robots-Tag:noindex
X-PUBLISHED-TTL:PT1H
BEGIN:VTIMEZONE
TZID:Europe/Berlin
BEGIN:DAYLIGHT
TZOFFSETFROM:+0100
TZOFFSETTO:+0200
TZNAME:CEST
DTSTART:20250330T010000
END:DAYLIGHT
BEGIN:STANDARD
TZOFFSETFROM:+0200
TZOFFSETTO:+0100
TZNAME:CET
DTSTART:20251026T010000
END:STANDARD
BEGIN:DAYLIGHT
TZOFFSETFROM:+0100
TZOFFSETTO:+0200
TZNAME:CEST
DTSTART:20260329T010000
END:DAYLIGHT
BEGIN:STANDARD
TZOFFSETFROM:+0200
TZOFFSETTO:+0100
TZNAME:CET
DTSTART:20261025T010000
END:STANDARD
BEGIN:DAYLIGHT
TZOFFSETFROM:+0100
TZOFFSETTO:+0200
TZNAME:CEST
DTSTART:20270328T010000
END:DAYLIGHT
BEGIN:STANDARD
TZOFFSETFROM:+0200
TZOFFSETTO:+0100
TZNAME:CET
DTSTART:20271031T010000
END:STANDARD
END:VTIMEZONE
BEGIN:VTIMEZONE
TZID:Europe/London
BEGIN:DAYLIGHT
TZOFFSETFROM:+0000
TZOFFSETTO:+0100
TZNAME:BST
DTSTART:20250330T010000
END:DAYLIGHT
BEGIN:STANDARD
TZOFFSETFROM:+0100
TZOFFSETTO:+0000
TZNAME:GMT
DTSTART:20251026T010000
END:STANDARD
BEGIN:DAYLIGHT
TZOFFSETFROM:+0000
TZOFFSETTO:+0100
TZNAME:BST
DTSTART:20260329T010000
END:DAYLIGHT
BEGIN:STANDARD
TZOFFSETFROM:+0100
TZOFFSETTO:+0000
TZNAME:GMT
DTSTART:20261025T010000
END:STANDARD
BEGIN:DAYLIGHT
TZOFFSETFROM:+0000
TZOFFSETTO:+0100
TZNAME:BST
DTSTART:20270328T010000
END:DAYLIGHT
BEGIN:STANDARD
TZOFFSETFROM:+0100
TZOFFSETTO:+0000
TZNAME:GMT
DTSTART:20271031T010000
END:STANDARD
END:VTIMEZONE
BEGIN:VEVENT
DTSTART;VALUE=DATE:20261024
DTEND;VALUE=DATE:20261025
DTSTAMP:20260420T033056
CREATED:20260204T113452Z
LAST-MODIFIED:20260317T170705Z
UID:10003847-1792800000-1792886399@www.feltmakers.com
SUMMARY:Sculptural Wallhangings – Collages of flat and 3d components\, In-person-class with Dagmar Binder
DESCRIPTION:(students should have previous knowledge about the foundations of felting\,\nsome experience of felting with resists can be helpful) \nWool as a fascinating natural\, malleable material offers almost endless possibilities for sculptural creations. For each of my WALLHANGINGS workshops\, I’m focussing on a specific theme\, in order to examine the details of this particular approach in greater depth and take a close look at the technical details involved.\nThis year\, under the general topic COLLAGES we want to design the surface of a felted wallhanging by combining flat and 3d-elements and fusing them into one seamless piece.\nCollages are a quiet playful and stimulating way of creating a work out of bits and pieces of a variety of materials. The result is usually open-ended\, the final image only emerges during the\nprocess\, by trying out different arrangements and carefully observing how the various fragments come together and interact with each other. This allows you to experiment with different wool types and textures and create out of them a work with individual style and esthetics.\nIn flat parts\, fibres will have space to develop their beautiful structure\, while the 3d sections will bring an additional contrast into the picture and give us the opportunity to look at some features of spatial felt forms as well. You will learn about composition and consistency of suitable handmade prefelts\, possibilities for graphic and tactile surface texture\, and finally assemble all fragments in a collage that will be firmly felted onto a thick\, rather substancial base.\nWe will explore how different fibres can be used best in the felting process and how to emphasize their beauty and characteristics. In a former workshop in Montbrun we examined some typical regional wool types and can draw on some good examples in the material archive.\nBe aware though\, coarse wools are suitable for the base and larger elements\, for fine and small scale details you will need to use fine fibres. (See more details in the material list.)\nWith the group\, we will keep an eye on the individual projects evolving and point out technical details\, so you can observe and learn a lot from various situations in the lively felting process.\nI’m looking forward to a new creative challenge and inspirational workshop week with you!\nDagmar Binder / www.textillabor.de
URL:https://www.feltmakers.com/event/sculptural-wallhangings-collages-of-flat-and-3d-components-in-person-class-with-dagmar-binder/2026-10-24/
LOCATION:Feutre Formation France\, lieu dit la couech\, MONTBRUN BOCAGE\, 31310\, France
CATEGORIES:In Person
ATTACH;FMTTYPE=image/jpeg:https://www.feltmakers.com/wp-content/uploads/2026/02/coll_feb26-Kopie.jpg
ORGANIZER;CN="Dagmar Binder%2C textillabor":MAILTO:dagmar@textillabor.de
END:VEVENT
BEGIN:VEVENT
DTSTART;VALUE=DATE:20261113
DTEND;VALUE=DATE:20261120
DTSTAMP:20260420T033056
CREATED:20260317T131303Z
LAST-MODIFIED:20260317T131449Z
UID:10003863-1794528000-1795132799@www.feltmakers.com
SUMMARY:MARJOLEIN DALLIGA  a manual wool felt session in two parts
DESCRIPTION:This series of workshops offers a sensitive and experimental exploration of felting in both volume and surface. \nThe first days focus on building shapes and volumes\, while the following sessions explore texture\, relief\, and surface transformations. Through a wide range of experiments with different wools and fibers\, participants will discover sculptural approaches based on folding\, connecting\, and working with material. \nA time to explore\, test\, and be guided by the wool\, in order to better understand its behavior and develop a personal practice\, with special attention given to color effects and the transformations inherent to felting.
URL:https://www.feltmakers.com/event/marjolein-dalliga-a-manual-wool-felt-session-in-two-parts/
LOCATION:Feutre Formation France\, lieu dit la couech\, MONTBRUN BOCAGE\, 31310\, France
CATEGORIES:In Person
ATTACH;FMTTYPE=image/jpeg:https://www.feltmakers.com/wp-content/uploads/2026/03/flyer_GB_DALLINGA-scaled.jpg
ORGANIZER;CN="FEUTRE FORMATION FRANCE":MAILTO:atelierdubocage31@gmail.com
END:VEVENT
END:VCALENDAR