BEGIN:VCALENDAR
VERSION:2.0
PRODID:-//International Feltmakers Association - ECPv6.15.20//NONSGML v1.0//EN
CALSCALE:GREGORIAN
METHOD:PUBLISH
X-ORIGINAL-URL:https://www.feltmakers.com
X-WR-CALDESC:Events for International Feltmakers Association
REFRESH-INTERVAL;VALUE=DURATION:PT1H
X-Robots-Tag:noindex
X-PUBLISHED-TTL:PT1H
BEGIN:VTIMEZONE
TZID:Europe/London
BEGIN:DAYLIGHT
TZOFFSETFROM:+0000
TZOFFSETTO:+0100
TZNAME:BST
DTSTART:20220327T010000
END:DAYLIGHT
BEGIN:STANDARD
TZOFFSETFROM:+0100
TZOFFSETTO:+0000
TZNAME:GMT
DTSTART:20221030T010000
END:STANDARD
BEGIN:DAYLIGHT
TZOFFSETFROM:+0000
TZOFFSETTO:+0100
TZNAME:BST
DTSTART:20230326T010000
END:DAYLIGHT
BEGIN:STANDARD
TZOFFSETFROM:+0100
TZOFFSETTO:+0000
TZNAME:GMT
DTSTART:20231029T010000
END:STANDARD
BEGIN:DAYLIGHT
TZOFFSETFROM:+0000
TZOFFSETTO:+0100
TZNAME:BST
DTSTART:20240331T010000
END:DAYLIGHT
BEGIN:STANDARD
TZOFFSETFROM:+0100
TZOFFSETTO:+0000
TZNAME:GMT
DTSTART:20241027T010000
END:STANDARD
END:VTIMEZONE
BEGIN:VEVENT
DTSTART;VALUE=DATE:20230413
DTEND;VALUE=DATE:20230418
DTSTAMP:20260423T204041
CREATED:20221228T174127Z
LAST-MODIFIED:20221228T174127Z
UID:10000134-1681344000-1681775999@www.feltmakers.com
SUMMARY:Wet Felting Workshop: “Comfy Sweater” with Natalya Brashovetska
DESCRIPTION:Fibers Of My Soul will bring Natalya Brashovetska to Guthrie\, Oklahoma to teach a 5-day wet felting workshop April 13-17\, 2023.  Participants will design and create a “Comfy Sweater\, Vest\, or Tunic” that is tailored to their own measurements.   \nExperience recommendation: Intermediate+/Advanced. For participants without any clothing making experience\, you may choose to make a vest or tunic without sleeves.  \nDuring the workshop:\n1. You will create a one-piece felted sweater\, tunic or vest.\n2. Learn how to take measurements\, make a template\, and calculate shrinkage.\n3. Learn how to easily transform your sweater template into a comfortable dress with pockets or a jacket.  \nThe cost of the workshop is $650. Prepayment is required. (A fiber and materials list will be provided at the time of sign-up.)  To Sign up or for more information\, please email FibersOfMySoul@gmail.com or call/text Treka Wenner @ 405-255-8021.
URL:https://www.feltmakers.com/event/wet-felting-workshop-comfy-sweater-with-natalya-brashovetska/
LOCATION:American Legion LeBron Post 58\, 123 N. 1st Street\, Guthrie\, OK\, 73044\, United States
CATEGORIES:In Person
ATTACH;FMTTYPE=image/jpeg:https://www.feltmakers.com/wp-content/uploads/2022/12/7AB29777-438D-4374-93F9-71120FF8EFB0.jpeg
ORGANIZER;CN="Treka Wenner":MAILTO:FibersOfMySoul@gmail.com
END:VEVENT
BEGIN:VEVENT
DTSTART;TZID=Europe/London:20230317T130000
DTEND;TZID=Europe/London:20230317T160000
DTSTAMP:20260423T204041
CREATED:20221228T170703Z
LAST-MODIFIED:20221228T170703Z
UID:10000199-1679058000-1679068800@www.feltmakers.com
SUMMARY:Wet Felted Birdhouse Pod @ Eureka Fiber In the Ozarks Festival
DESCRIPTION:What better way to welcome Spring than with a beautiful wet felted birdhouse? Join us for this beginner-friendly wet felting class and create a beautiful birdhouse that can be hung outdoors for your feathered friends or kept inside as a decorative piece. The project will be wet felted using wool batting over a resist. A wide variety of wool colors will be available to choose from!  \nInstructor: Treka Wenner from Fibers of My Soul\nDate/Time (Time Subject to Change): Friday\, March 17th 1pm-4pm\nLocation: Highlander Room\nCost: $75 \nSignup link: https://eurekafiberintheozarks.com/classes-for-2023/ols/products/ez-peazy-needle-felted-silly-wabbit
URL:https://www.feltmakers.com/event/wet-felted-birdhouse-pod-eureka-fiber-in-the-ozarks-festival/
LOCATION:Eureka Springs Community Center\, 44 Kings Highway\, Eureka Springs\, AR\, 72632\, United States
CATEGORIES:In Person
ATTACH;FMTTYPE=image/jpeg:https://www.feltmakers.com/wp-content/uploads/2022/12/38D2C2C5-780B-4D56-820A-6993BB68BA90.jpeg
ORGANIZER;CN="Treka Wenner":MAILTO:FibersOfMySoul@gmail.com
END:VEVENT
END:VCALENDAR