BEGIN:VCALENDAR
VERSION:2.0
PRODID:-//International Feltmakers Association - ECPv6.15.20//NONSGML v1.0//EN
CALSCALE:GREGORIAN
METHOD:PUBLISH
X-ORIGINAL-URL:https://www.feltmakers.com
X-WR-CALDESC:Events for International Feltmakers Association
REFRESH-INTERVAL;VALUE=DURATION:PT1H
X-Robots-Tag:noindex
X-PUBLISHED-TTL:PT1H
BEGIN:VTIMEZONE
TZID:Europe/London
BEGIN:DAYLIGHT
TZOFFSETFROM:+0000
TZOFFSETTO:+0100
TZNAME:BST
DTSTART:20250330T010000
END:DAYLIGHT
BEGIN:STANDARD
TZOFFSETFROM:+0100
TZOFFSETTO:+0000
TZNAME:GMT
DTSTART:20251026T010000
END:STANDARD
BEGIN:DAYLIGHT
TZOFFSETFROM:+0000
TZOFFSETTO:+0100
TZNAME:BST
DTSTART:20260329T010000
END:DAYLIGHT
BEGIN:STANDARD
TZOFFSETFROM:+0100
TZOFFSETTO:+0000
TZNAME:GMT
DTSTART:20261025T010000
END:STANDARD
BEGIN:DAYLIGHT
TZOFFSETFROM:+0000
TZOFFSETTO:+0100
TZNAME:BST
DTSTART:20270328T010000
END:DAYLIGHT
BEGIN:STANDARD
TZOFFSETFROM:+0100
TZOFFSETTO:+0000
TZNAME:GMT
DTSTART:20271031T010000
END:STANDARD
END:VTIMEZONE
BEGIN:VEVENT
DTSTART;TZID=Europe/London:20260507T130000
DTEND;TZID=Europe/London:20260509T170000
DTSTAMP:20260422T224112
CREATED:20260201T180215Z
LAST-MODIFIED:20260201T180215Z
UID:10003825-1778158800-1778346000@www.feltmakers.com
SUMMARY:3 x Day Retreat Wet Felted Painting 'Enchanted Woodland'
DESCRIPTION:Overview\nCome join us for 3 days of creative magic in this ‘Enchanted Woodland’ retreat – where felt makingmeets painting and imagination runs wild!\nWelcome to the 3 x Days ‘Enchanted Woodland’ Retreat Felted Painting Course at Bottoms Farm! Get ready to unleash your creativity on May 7 – 9th 2026 . \nJoin us for an immersive experience where you’ll learn the art of making your own felted painting. – a magical journey into the world of fibres and textures! Don’t miss this opportunity to take some time out and explore your artistic side. See you there! \n3 x days wet felt making residential retreat course On this fully guided course you will discover how to make an ‘Enchanted Woodland’ large felted painting complete with hand embroidery and needle felted details\, flowers\, grass\, rocks\, maybe an animal… \nDates: Thursday 7th May\, arrival from 1pm – Saturday 9th May. \nThe course will be held at Bottoms Farm in Walsden near Todmorden in West Yorkshire at a retreat centre with a beautiful studio space. It’s for a maximum of seven people. It will be run by highly experienced fibre artist and tutor Josephine Gornall. \nThe price includes – all tuition\, materials\, use of equipment\, accommodation and most meals – listed below\, apart from Friday night when you’ll have a choice of local food options . \nSummary of the Course:\nYou will be able to make an ‘Enchanted Woodland’ scene\, (approx 40x40cm) in this fully guided wet felting course ideal for beginners and improvers. We will choose from a large selection of fabulous coloured wools and plant fibres. Examples of the tutors and previous students woodland scenes are shown in the photos. \nFull details or for more information do get in touch.
URL:https://www.feltmakers.com/event/3-x-day-retreat-wet-felted-painting-enchanted-woodland/
LOCATION:Bottoms farm\, Bottoms Farm\, Walsden\, West Yorkshire\, OL14 7UA\, United Kingdom
CATEGORIES:In Person
ATTACH;FMTTYPE=image/jpeg:https://www.feltmakers.com/wp-content/uploads/2026/02/Enchanted-Woodland-web-JPG.jpg
END:VEVENT
END:VCALENDAR