BEGIN:VCALENDAR
VERSION:2.0
PRODID:-//International Feltmakers Association - ECPv6.15.20//NONSGML v1.0//EN
CALSCALE:GREGORIAN
METHOD:PUBLISH
X-ORIGINAL-URL:https://www.feltmakers.com
X-WR-CALDESC:Events for International Feltmakers Association
REFRESH-INTERVAL;VALUE=DURATION:PT1H
X-Robots-Tag:noindex
X-PUBLISHED-TTL:PT1H
BEGIN:VTIMEZONE
TZID:America/North_Dakota/New_Salem
BEGIN:DAYLIGHT
TZOFFSETFROM:-0600
TZOFFSETTO:-0500
TZNAME:CDT
DTSTART:20250309T080000
END:DAYLIGHT
BEGIN:STANDARD
TZOFFSETFROM:-0500
TZOFFSETTO:-0600
TZNAME:CST
DTSTART:20251102T070000
END:STANDARD
BEGIN:DAYLIGHT
TZOFFSETFROM:-0600
TZOFFSETTO:-0500
TZNAME:CDT
DTSTART:20260308T080000
END:DAYLIGHT
BEGIN:STANDARD
TZOFFSETFROM:-0500
TZOFFSETTO:-0600
TZNAME:CST
DTSTART:20261101T070000
END:STANDARD
BEGIN:DAYLIGHT
TZOFFSETFROM:-0600
TZOFFSETTO:-0500
TZNAME:CDT
DTSTART:20270314T080000
END:DAYLIGHT
BEGIN:STANDARD
TZOFFSETFROM:-0500
TZOFFSETTO:-0600
TZNAME:CST
DTSTART:20271107T070000
END:STANDARD
END:VTIMEZONE
BEGIN:VTIMEZONE
TZID:Europe/London
BEGIN:DAYLIGHT
TZOFFSETFROM:+0000
TZOFFSETTO:+0100
TZNAME:BST
DTSTART:20220327T010000
END:DAYLIGHT
BEGIN:STANDARD
TZOFFSETFROM:+0100
TZOFFSETTO:+0000
TZNAME:GMT
DTSTART:20221030T010000
END:STANDARD
BEGIN:DAYLIGHT
TZOFFSETFROM:+0000
TZOFFSETTO:+0100
TZNAME:BST
DTSTART:20230326T010000
END:DAYLIGHT
BEGIN:STANDARD
TZOFFSETFROM:+0100
TZOFFSETTO:+0000
TZNAME:GMT
DTSTART:20231029T010000
END:STANDARD
BEGIN:DAYLIGHT
TZOFFSETFROM:+0000
TZOFFSETTO:+0100
TZNAME:BST
DTSTART:20240331T010000
END:DAYLIGHT
BEGIN:STANDARD
TZOFFSETFROM:+0100
TZOFFSETTO:+0000
TZNAME:GMT
DTSTART:20241027T010000
END:STANDARD
END:VTIMEZONE
BEGIN:VTIMEZONE
TZID:America/New_York
BEGIN:DAYLIGHT
TZOFFSETFROM:-0500
TZOFFSETTO:-0400
TZNAME:EDT
DTSTART:20220313T070000
END:DAYLIGHT
BEGIN:STANDARD
TZOFFSETFROM:-0400
TZOFFSETTO:-0500
TZNAME:EST
DTSTART:20221106T060000
END:STANDARD
BEGIN:DAYLIGHT
TZOFFSETFROM:-0500
TZOFFSETTO:-0400
TZNAME:EDT
DTSTART:20230312T070000
END:DAYLIGHT
BEGIN:STANDARD
TZOFFSETFROM:-0400
TZOFFSETTO:-0500
TZNAME:EST
DTSTART:20231105T060000
END:STANDARD
BEGIN:DAYLIGHT
TZOFFSETFROM:-0500
TZOFFSETTO:-0400
TZNAME:EDT
DTSTART:20240310T070000
END:DAYLIGHT
BEGIN:STANDARD
TZOFFSETFROM:-0400
TZOFFSETTO:-0500
TZNAME:EST
DTSTART:20241103T060000
END:STANDARD
END:VTIMEZONE
BEGIN:VEVENT
DTSTART;TZID=America/North_Dakota/New_Salem:20260214T080000
DTEND;TZID=America/North_Dakota/New_Salem:20260221T170000
DTSTAMP:20260423T100400
CREATED:20250914T113226Z
LAST-MODIFIED:20250914T113648Z
UID:10003646-1771056000-1771693200@www.feltmakers.com
SUMMARY:Sedona Felting Retreat
DESCRIPTION:Sedona\, Arizona is a sanctuary where the intense beauty of towering red rocks meets brilliant azure skies and golden sunlight. Enjoy the magical golden hour when the red rocks glow like fire against the evening sky. Feel yourself relaxed and energized at the same time. Sedona is a city of healing vortexes\, where body\, mind and spirit unite in an unforgettable setting.\nIn this 5-day workshop you will learn how to create a pattern resist in any size\, how to lay out mosaic nuno felt garment (coat\, dress or both if time allows) for super lightweight results\, tips and tricks to create a beautiful garment and finishing secrets for a perfect fit and finish. You’ll be working with materials provided by the instructor\, to be sure everyone has a successful outcome.\nTreat yourself with gorgeous accommodations and super fun side excursions.\nFor more information\, visit https://www.pattibarker.com/about-4
URL:https://www.feltmakers.com/event/sedona-felting-retreat/
LOCATION:Sedona Resort\, A\, United States
CATEGORIES:In Person
ATTACH;FMTTYPE=image/jpeg:https://www.feltmakers.com/wp-content/uploads/2025/09/IMG_3581-1-scaled.jpg
ORGANIZER;CN="Patti Barker":MAILTO:pattibarker58@gmail.com
END:VEVENT
BEGIN:VEVENT
DTSTART;TZID=Europe/London:20230505T090000
DTEND;TZID=Europe/London:20230505T160000
DTSTAMP:20260423T100400
CREATED:20230324T121625Z
LAST-MODIFIED:20230326T115530Z
UID:10000246-1683277200-1683302400@www.feltmakers.com
SUMMARY:Felted Basket or Bowl with Patti Barker
DESCRIPTION:Learn techniques to create a perfectly round felted basket or bowl with wool\, soapy water and your hands. This lesson includes laying out the wool\, felting\, fulling and shaping your wool. This in person event will be held at the Maryland Sheep & Wool Festival\, the largest and oldest fiber event in the US.
URL:https://www.feltmakers.com/event/felted-basket-or-bowl-with-patti-barker/
LOCATION:Howard County Fair Grounds\, 2210 Fairgrounds Road\, West Friendship\, MD\, 21794\, United States
CATEGORIES:In Person
ATTACH;FMTTYPE=image/jpeg:https://www.feltmakers.com/wp-content/uploads/2023/03/Felted-Basket.jpeg
ORGANIZER;CN="Patti Barker":MAILTO:pattibarker58@gmail.com
END:VEVENT
BEGIN:VEVENT
DTSTART;TZID=America/New_York:20230504T090000
DTEND;TZID=America/New_York:20230504T160000
DTSTAMP:20260423T100400
CREATED:20230324T120402Z
LAST-MODIFIED:20230326T115328Z
UID:10000244-1683190800-1683216000@www.feltmakers.com
SUMMARY:Felting a Journal/Book Cover with Patti Barker
DESCRIPTION:Felt a journal/book cover in which to write or list your hearts desires. Learn how to use a resist and create a one-of-a-kind art statement inspired by landscapes. We will decorate inside and out\, make strong\, thin cording to fasten it closed. Students will come away with a finished cover\, sans the button for closure and a notebook refill. This in person event will be held at the Maryland Sheep & Wool Festival\, the oldest and largest fiber event in the US.
URL:https://www.feltmakers.com/event/felting-a-journal-book-cover-with-patti-barker/
LOCATION:Howard County Fair Grounds\, 2210 Fairgrounds Road\, West Friendship\, MD\, 21794\, United States
CATEGORIES:In Person
ATTACH;FMTTYPE=image/jpeg:https://www.feltmakers.com/wp-content/uploads/2023/03/Journal-Covers.jpg
ORGANIZER;CN="Patti Barker":MAILTO:pattibarker58@gmail.com
END:VEVENT
BEGIN:VEVENT
DTSTART;TZID=Europe/London:20230503T090000
DTEND;TZID=Europe/London:20230503T160000
DTSTAMP:20260423T100400
CREATED:20230324T121215Z
LAST-MODIFIED:20230326T115617Z
UID:10000245-1683104400-1683129600@www.feltmakers.com
SUMMARY:Demystifying Resists in Felt Making with Patti Barker
DESCRIPTION:Sculptural felting and garment making begin with pattern resists. How do you make a flat shape into three dimensional felt? How do you make a felted garment that’s seamless? Learn the answer to these questions and much more in this class. We’ll explore open\, closed\, layered\, embedded and donut resists with a discussion on book resists and basic pattern making for all types of projects. Students will come away with five mini projects and the skills to use in further study. This in person class is offered during the Maryland Sheep & Wool Festival\, the largest and oldest fiber festival in the US.
URL:https://www.feltmakers.com/event/demystifying-resists-in-felt-making-withpatti-barker/
LOCATION:Howard County Fair Grounds\, 2210 Fairgrounds Road\, West Friendship\, MD\, 21794\, United States
CATEGORIES:In Person
ATTACH;FMTTYPE=image/jpeg:https://www.feltmakers.com/wp-content/uploads/2023/03/Resist-kit-small.jpg
ORGANIZER;CN="Patti Barker":MAILTO:pattibarker58@gmail.com
END:VEVENT
END:VCALENDAR