BEGIN:VCALENDAR
VERSION:2.0
PRODID:-//International Feltmakers Association - ECPv6.15.20//NONSGML v1.0//EN
CALSCALE:GREGORIAN
METHOD:PUBLISH
X-WR-CALNAME:International Feltmakers Association
X-ORIGINAL-URL:https://www.feltmakers.com
X-WR-CALDESC:Events for International Feltmakers Association
REFRESH-INTERVAL;VALUE=DURATION:PT1H
X-Robots-Tag:noindex
X-PUBLISHED-TTL:PT1H
BEGIN:VTIMEZONE
TZID:Europe/London
BEGIN:DAYLIGHT
TZOFFSETFROM:+0000
TZOFFSETTO:+0100
TZNAME:BST
DTSTART:20250330T010000
END:DAYLIGHT
BEGIN:STANDARD
TZOFFSETFROM:+0100
TZOFFSETTO:+0000
TZNAME:GMT
DTSTART:20251026T010000
END:STANDARD
BEGIN:DAYLIGHT
TZOFFSETFROM:+0000
TZOFFSETTO:+0100
TZNAME:BST
DTSTART:20260329T010000
END:DAYLIGHT
BEGIN:STANDARD
TZOFFSETFROM:+0100
TZOFFSETTO:+0000
TZNAME:GMT
DTSTART:20261025T010000
END:STANDARD
BEGIN:DAYLIGHT
TZOFFSETFROM:+0000
TZOFFSETTO:+0100
TZNAME:BST
DTSTART:20270328T010000
END:DAYLIGHT
BEGIN:STANDARD
TZOFFSETFROM:+0100
TZOFFSETTO:+0000
TZNAME:GMT
DTSTART:20271031T010000
END:STANDARD
END:VTIMEZONE
BEGIN:VEVENT
DTSTART;VALUE=DATE:20260308
DTEND;VALUE=DATE:20260317
DTSTAMP:20260423T113241
CREATED:20260109T221724Z
LAST-MODIFIED:20260109T221944Z
UID:10003811-1772928000-1773705599@www.feltmakers.com
SUMMARY:FACES OF EXTINCTION with GLADYS PAULUS  9-day workshop from March 8 to 16\, 2026
DESCRIPTION:This master class focuses on the creaon of a detailed animal mask which will  contribute to on-line exhibition Faces of Extinction. This project aims to help raise awareness of the huge challenges to wildlife across the world\, and of imminent natural network collapse.\nToday wildlife accounts for only 3 percent of earth’s land animals; human beings\, our livestock\, and our pets take up the remaining 97 percent of the biomass. This is due both to the explosion of industrial agriculture and to a hollowing out of wildlife itself\, which has decreased in abundance by as much as 50 percent since 1970. This cull is from both direct hunting and global-scale habitat destrucon: almost half of the earth’s land has been converted to farmland (source: PeterBrannen\,  The Ends of the World ).\nFaces of Extinction is an international community art project & on-line exhibition that aims to draw attention to the impact of human activity on ecosystems and habitats\, and the increased rate of species loss that is one of the results. Faces of  Extinction occupies a dedicated web page\, Instagram site and Facebook page\, and all images share a disnct set of guidelines to encourage visual unity.\nAll animals chosen have to be picked from the IUCN Red List for Threatened Species ( hps://www.iucnredlist.org/ ) and all student parcipants will be asked to do some research on their chosen animal\, as well as prepare a sign containing some basic wrien facts (more informaon on this is provided in the Student Materials List).
URL:https://www.feltmakers.com/event/faces-of-extinction-with-gladys-paulus-9-day-workshop-from-march-8-to-16-2026/
LOCATION:Feutre Formation France\, lieu dit la couech\, MONTBRUN BOCAGE\, 31310\, France
CATEGORIES:In Person
ATTACH;FMTTYPE=image/jpeg:https://www.feltmakers.com/wp-content/uploads/2026/01/GLADYS-2-GB.jpg
ORGANIZER;CN="Jjean fran%C3%A7ois chavigny":MAILTO:atelierdubocage31@gmail.com
END:VEVENT
END:VCALENDAR