BEGIN:VCALENDAR
VERSION:2.0
PRODID:-//International Feltmakers Association - ECPv6.15.20//NONSGML v1.0//EN
CALSCALE:GREGORIAN
METHOD:PUBLISH
X-ORIGINAL-URL:https://www.feltmakers.com
X-WR-CALDESC:Events for International Feltmakers Association
REFRESH-INTERVAL;VALUE=DURATION:PT1H
X-Robots-Tag:noindex
X-PUBLISHED-TTL:PT1H
BEGIN:VTIMEZONE
TZID:Europe/London
BEGIN:DAYLIGHT
TZOFFSETFROM:+0000
TZOFFSETTO:+0100
TZNAME:BST
DTSTART:20250330T010000
END:DAYLIGHT
BEGIN:STANDARD
TZOFFSETFROM:+0100
TZOFFSETTO:+0000
TZNAME:GMT
DTSTART:20251026T010000
END:STANDARD
BEGIN:DAYLIGHT
TZOFFSETFROM:+0000
TZOFFSETTO:+0100
TZNAME:BST
DTSTART:20260329T010000
END:DAYLIGHT
BEGIN:STANDARD
TZOFFSETFROM:+0100
TZOFFSETTO:+0000
TZNAME:GMT
DTSTART:20261025T010000
END:STANDARD
BEGIN:DAYLIGHT
TZOFFSETFROM:+0000
TZOFFSETTO:+0100
TZNAME:BST
DTSTART:20270328T010000
END:DAYLIGHT
BEGIN:STANDARD
TZOFFSETFROM:+0100
TZOFFSETTO:+0000
TZNAME:GMT
DTSTART:20271031T010000
END:STANDARD
END:VTIMEZONE
BEGIN:VEVENT
DTSTART;TZID=Europe/London:20260404T093000
DTEND;TZID=Europe/London:20260426T170000
DTSTAMP:20260416T210006
CREATED:20260409T085002Z
LAST-MODIFIED:20260409T085041Z
UID:10003871-1775295000-1777222800@www.feltmakers.com
SUMMARY:Feltmakers Ireland Presents ‘Water and Flow’ – A Contemporary Felt Exhibition
DESCRIPTION:Feltmakers Ireland is delighted to present ‘Water and Flow’\, a vibrant group exhibition showcasing the contemporary artwork of 67 of its members. This dynamic exhibition explores the many interpretations of water through the rich and versatile medium of felt. Several of our members are also IFA members. \nFrom gentle streams to powerful oceans\, ‘Water and Flow’ captures the many moods of water—its energy and stillness\, its capacity for renewal\, and its deep connection to human emotion\, from sorrow to joy. \nUsing fibres ranging from imported Merino wool to locally sourced Irish fleece\, participating artists have created a diverse and engaging body of work. The exhibition highlights both traditional and contemporary felting practices\, featuring techniques such as wet felting and needle felting. Visitors can expect an exciting array of three-dimensional sculptures\, wall pieces\, and wearable art\, each offering a unique interpretation of the theme while reflecting the individuality and creativity of the makers. \nOpening Event\nThe exhibition will be officially launched by knitwear designer Conor O’Brien on Saturday\, the 4th of April\, at 3 PM. \nDates and Venue\n‘Water and Flow’ will run from Thursday\, the 2nd of April to Sunday\, the 26th of April at the Phoenix Park Visitor Centre Gallery\, located within Phoenix Park. \nOpening hours are 9:30 AM to 5 PM daily\, with the exhibition closing at 3 PM on the final day. \nThe gallery is easily accessible via Dublin Bus route 99\, and ample parking is available near the Visitor Centre. \nFor further details\, including maps and directions\, please visit: https://www.phoenixpark.ie/directions \nThe artwork featured on the exhibition poster is ‘Waterfall’ by Joanne Turner. \nOur website: https://feltmakersireland.com \nOur Instagram: @feltmakers_ireland
URL:https://www.feltmakers.com/event/feltmakers-ireland-presents-water-and-flow-a-contemporary-felt-exhibition/
LOCATION:Phoenix Park Visitor Centre\, Dublin\, Ireland\, Phoenix Park Visitor Centre\, Dublin\, D08 Y304\, Ireland
CATEGORIES:In Person
ATTACH;FMTTYPE=image/jpeg:https://www.feltmakers.com/wp-content/uploads/2026/04/WATER_AND_FLOW_POSTER_INSTAGRAM.jpg
ORGANIZER;CN="Feltmakers Ireland":MAILTO:feltmakersIE@gmail.com
END:VEVENT
END:VCALENDAR