BEGIN:VCALENDAR
VERSION:2.0
PRODID:-//International Feltmakers Association - ECPv6.15.20//NONSGML v1.0//EN
CALSCALE:GREGORIAN
METHOD:PUBLISH
X-WR-CALNAME:International Feltmakers Association
X-ORIGINAL-URL:https://www.feltmakers.com
X-WR-CALDESC:Events for International Feltmakers Association
REFRESH-INTERVAL;VALUE=DURATION:PT1H
X-Robots-Tag:noindex
X-PUBLISHED-TTL:PT1H
BEGIN:VTIMEZONE
TZID:America/Sao_Paulo
BEGIN:STANDARD
TZOFFSETFROM:-0300
TZOFFSETTO:-0300
TZNAME:-03
DTSTART:20230101T000000
END:STANDARD
END:VTIMEZONE
BEGIN:VEVENT
DTSTART;VALUE=DATE:20241024
DTEND;VALUE=DATE:20241107
DTSTAMP:20260423T110636
CREATED:20240523T163254Z
LAST-MODIFIED:20240523T163254Z
UID:10003007-1729728000-1730937599@www.feltmakers.com
SUMMARY:Marjolein Dallinga in Uruguay
DESCRIPTION:Marjolein Dallinga in Uruguay\nAn artistic experience near the forest and the Ocean coast. \nWe\, along with Marjolein\, have designed this experience\, which offers two options. You can either participate fully or choose one of the two modalities provided.\nDuring these days\, you will enjoy opportunities to rest\, take long walks in the forest or on the beach\, and interact with people from different places\, all while accompanied by our team\, in a comfortable and natural environment.
URL:https://www.feltmakers.com/event/marjolein-dallinga-in-uruguay/
LOCATION:https://maps.app.goo.gl/oEHzGgMfrzEU85fR9\, Altos de la Serena\, ROCHA\, Uruguay
CATEGORIES:In Person
ATTACH;FMTTYPE=image/jpeg:https://www.feltmakers.com/wp-content/uploads/2024/05/IMG-20240510-WA00351.jpg
ORGANIZER;CN="Andrea Bustelo":MAILTO:andreabustelo@gmail.com
END:VEVENT
END:VCALENDAR