BEGIN:VCALENDAR
VERSION:2.0
PRODID:-//International Feltmakers Association - ECPv6.15.20//NONSGML v1.0//EN
CALSCALE:GREGORIAN
METHOD:PUBLISH
X-WR-CALNAME:International Feltmakers Association
X-ORIGINAL-URL:https://www.feltmakers.com
X-WR-CALDESC:Events for International Feltmakers Association
REFRESH-INTERVAL;VALUE=DURATION:PT1H
X-Robots-Tag:noindex
X-PUBLISHED-TTL:PT1H
BEGIN:VTIMEZONE
TZID:Europe/Berlin
BEGIN:DAYLIGHT
TZOFFSETFROM:+0100
TZOFFSETTO:+0200
TZNAME:CEST
DTSTART:20250330T010000
END:DAYLIGHT
BEGIN:STANDARD
TZOFFSETFROM:+0200
TZOFFSETTO:+0100
TZNAME:CET
DTSTART:20251026T010000
END:STANDARD
BEGIN:DAYLIGHT
TZOFFSETFROM:+0100
TZOFFSETTO:+0200
TZNAME:CEST
DTSTART:20260329T010000
END:DAYLIGHT
BEGIN:STANDARD
TZOFFSETFROM:+0200
TZOFFSETTO:+0100
TZNAME:CET
DTSTART:20261025T010000
END:STANDARD
BEGIN:DAYLIGHT
TZOFFSETFROM:+0100
TZOFFSETTO:+0200
TZNAME:CEST
DTSTART:20270328T010000
END:DAYLIGHT
BEGIN:STANDARD
TZOFFSETFROM:+0200
TZOFFSETTO:+0100
TZNAME:CET
DTSTART:20271031T010000
END:STANDARD
END:VTIMEZONE
BEGIN:VEVENT
DTSTART;TZID=Europe/Berlin:20260530T180000
DTEND;TZID=Europe/Berlin:20260530T210000
DTSTAMP:20260422T211121
CREATED:20231218T144022Z
LAST-MODIFIED:20260204T102309Z
UID:10003826-1780164000-1780174800@www.feltmakers.com
SUMMARY:N° 26/05 FELTED SHIELD WALL PANEL\, Online workshop with Dagmar Binder
DESCRIPTION:In this workshop you are going to create a convex felted wall shield with decorative line patterns. You will learn how to make a solid\, substantial felt object and design its surface in a very individual way. A variety of inspirations can be found in maps\, mazes\, cave paintings or contemporary art\, letters and symbols\, or you can just invent your own drawings.\nWe’ll have a close look at the so-called cracked-mud-technique and complement it by some specific details to achieve a clear and well felted structure.\nOptionally\, you may want to add some extensions to the basic form and we’ll see how to connect them to the shield’s body in a firm and fluent way. \nThere are 3 groups available for different time zones\, each one meets on 2 days: \nGr. 1  May 28/29\, 2026 in English 08-11 a.m. (CEST\, Berlin time = suitable for Europe\, Australia/NZ)\nGr. 2  May 30/31\, 2026 in Deutsch 10 -13 h\nGr. 3  May 30/31\, 2026 in English 06-09 p.m. (CEST\, Berlin time = suitable for Europe\, America)
URL:https://www.feltmakers.com/event/online-workshop-no-24-03-felted-shield-wall-panel/2026-05-30/
LOCATION:Online via Zoom
CATEGORIES:Online
ATTACH;FMTTYPE=image/jpeg:https://www.feltmakers.com/wp-content/uploads/2023/12/shield1.jpg
ORGANIZER;CN="Dagmar Binder%2C textillabor":MAILTO:dagmar@textillabor.de
END:VEVENT
BEGIN:VEVENT
DTSTART;TZID=Europe/Berlin:20260531T180000
DTEND;TZID=Europe/Berlin:20260531T210000
DTSTAMP:20260422T211121
CREATED:20231218T144022Z
LAST-MODIFIED:20260204T102309Z
UID:10003827-1780250400-1780261200@www.feltmakers.com
SUMMARY:N° 26/05 FELTED SHIELD WALL PANEL\, Online workshop with Dagmar Binder
DESCRIPTION:In this workshop you are going to create a convex felted wall shield with decorative line patterns. You will learn how to make a solid\, substantial felt object and design its surface in a very individual way. A variety of inspirations can be found in maps\, mazes\, cave paintings or contemporary art\, letters and symbols\, or you can just invent your own drawings.\nWe’ll have a close look at the so-called cracked-mud-technique and complement it by some specific details to achieve a clear and well felted structure.\nOptionally\, you may want to add some extensions to the basic form and we’ll see how to connect them to the shield’s body in a firm and fluent way. \nThere are 3 groups available for different time zones\, each one meets on 2 days: \nGr. 1  May 28/29\, 2026 in English 08-11 a.m. (CEST\, Berlin time = suitable for Europe\, Australia/NZ)\nGr. 2  May 30/31\, 2026 in Deutsch 10 -13 h\nGr. 3  May 30/31\, 2026 in English 06-09 p.m. (CEST\, Berlin time = suitable for Europe\, America)
URL:https://www.feltmakers.com/event/online-workshop-no-24-03-felted-shield-wall-panel/2026-05-31/
LOCATION:Online via Zoom
CATEGORIES:Online
ATTACH;FMTTYPE=image/jpeg:https://www.feltmakers.com/wp-content/uploads/2023/12/shield1.jpg
ORGANIZER;CN="Dagmar Binder%2C textillabor":MAILTO:dagmar@textillabor.de
END:VEVENT
END:VCALENDAR